BEGIN:VCALENDAR
VERSION:2.0
PRODID:-//CRISP &amp; GREEN® |  Food That Fits Your Life - ECPv6.7.0//NONSGML v1.0//EN
CALSCALE:GREGORIAN
METHOD:PUBLISH
X-WR-CALNAME:CRISP &amp; GREEN® |  Food That Fits Your Life
X-ORIGINAL-URL:https://crispandgreen.com
X-WR-CALDESC:Events for CRISP &amp; GREEN® |  Food That Fits Your Life
REFRESH-INTERVAL;VALUE=DURATION:PT1H
X-Robots-Tag:noindex
X-PUBLISHED-TTL:PT1H
BEGIN:VTIMEZONE
TZID:America/Chicago
BEGIN:DAYLIGHT
TZOFFSETFROM:-0600
TZOFFSETTO:-0500
TZNAME:CDT
DTSTART:20240310T080000
END:DAYLIGHT
BEGIN:STANDARD
TZOFFSETFROM:-0500
TZOFFSETTO:-0600
TZNAME:CST
DTSTART:20241103T070000
END:STANDARD
END:VTIMEZONE
BEGIN:VEVENT
DTSTART;TZID=America/Chicago:20241221T090000
DTEND;TZID=America/Chicago:20241221T100000
DTSTAMP:20260423T114328
CREATED:20241105T220100Z
LAST-MODIFIED:20241218T170111Z
UID:10000755-1734771600-1734775200@crispandgreen.com
SUMMARY:CLUB PILATES + CRISP & GREEN | WINTER PARK - ORLANDO\, FL
DESCRIPTION:We’re enjoying Fall the right way – by investing in our own wellness! Come enjoy an all-levels outdoor mat pilates class led by CLUB PILATES on the Winter Park Village lawn! This class is perfect for those who’ve already fallen in love with pilates or those who are looking to try something new. An expert instructor will lead you through a dynamic workout designed to strengthen\, tone\, and energize your body from head to toe. Bring your own mat\, plenty of water and come reconnect with yourself and your community! Plus enjoy complimentary snacks refreshments after class at CRISP & GREEN. RSVP to save your spot!
URL:https://crispandgreen.com/cg-event/club-pilates-crisp-green-winter-park-orlando-fl/
LOCATION:Cypress Grove Park\, 290 Holden Ave\, Orlando\, FL\, 32839\, United States
ATTACH;FMTTYPE=image/png:https://crispandgreen.com/wp-content/uploads/2024/11/Outdoor-Mat-Pilates-Social-Post.png
END:VEVENT
BEGIN:VEVENT
DTSTART;TZID=America/Chicago:20241123T090000
DTEND;TZID=America/Chicago:20241123T100000
DTSTAMP:20260423T114328
CREATED:20241105T212925Z
LAST-MODIFIED:20241119T194733Z
UID:10000752-1732352400-1732356000@crispandgreen.com
SUMMARY:CLUB PILATES + CRISP & GREEN | WINTER PARK - ORLANDO\, FL
DESCRIPTION:Join us for an invigorating mat pilates experience to challenge your body and reconnect with yourself! We’re enjoying Fall the right way – by investing in our own wellness! Come enjoy an all-levels outdoor mat pilates class led by CLUB PILATES Cypress Grove Park: 290 Holden Ave\, Orlando\, FL. This class is perfect for those who’ve already fallen in love with pilates or those who are looking to try something new. An expert instructor will lead you through a dynamic workout designed to strengthen\, tone\, and energize your body from head to toe. Bring your own mat\, plenty of water and come reconnect with yourself and your community! Plus enjoy complimentary snacks refreshments after class at CRISP & GREEN. RSVP to save your spot!
URL:https://crispandgreen.com/cg-event/club-pilates-x-crisp-green-winter-park-orlando-fl/
LOCATION:Cypress Grove Park\, 290 Holden Ave\, Orlando\, FL\, 32839\, United States
ATTACH;FMTTYPE=image/jpeg:https://crispandgreen.com/wp-content/uploads/2024/07/Mat_Class_Outdoors17.jpg
END:VEVENT
END:VCALENDAR