BEGIN:VCALENDAR
VERSION:2.0
PRODID:-//CRISP &amp; GREEN® |  Food That Fits Your Life - ECPv6.7.0//NONSGML v1.0//EN
CALSCALE:GREGORIAN
METHOD:PUBLISH
X-WR-CALNAME:CRISP &amp; GREEN® |  Food That Fits Your Life
X-ORIGINAL-URL:https://crispandgreen.com
X-WR-CALDESC:Events for CRISP &amp; GREEN® |  Food That Fits Your Life
REFRESH-INTERVAL;VALUE=DURATION:PT1H
X-Robots-Tag:noindex
X-PUBLISHED-TTL:PT1H
BEGIN:VTIMEZONE
TZID:America/Chicago
BEGIN:DAYLIGHT
TZOFFSETFROM:-0600
TZOFFSETTO:-0500
TZNAME:CDT
DTSTART:20220313T080000
END:DAYLIGHT
BEGIN:STANDARD
TZOFFSETFROM:-0500
TZOFFSETTO:-0600
TZNAME:CST
DTSTART:20221106T070000
END:STANDARD
END:VTIMEZONE
BEGIN:VEVENT
DTSTART;TZID=America/Chicago:20220409T103000
DTEND;TZID=America/Chicago:20220409T113000
DTSTAMP:20260424T165052
CREATED:20220221T211812Z
LAST-MODIFIED:20220408T190341Z
UID:10000076-1649500200-1649503800@crispandgreen.com
SUMMARY:Camp Gladiator + CRISP & GREEN | University Park
DESCRIPTION:Join Crisp & Green and Meredith Boyd from Camp Gladiator for a full-body\, boot-camp style workout.\n\n\nJoin Crisp & Green and Meredith Boyd from Camp Gladiator for a full-body\, boot-camp style workout. \nJoin Crisp & Green and Meredith Boyd for a full-body\, boot-camp style workout on Saturday\, April 9. The workout is meant for all fitness levels and you can do as much or as little feels good to you. We can’t wait to have you! \n \n**PLEASE REMEMBER TO BRING YOUR OWN MAT** \nAttendees will receive complimentary Agua Frescas after class!
URL:https://crispandgreen.com/cg-event/camp-gladiator-crisp-green-university-park-2/
LOCATION:CRISP & GREEN | University Park – Dallas\, TX\, 6565 Hillcrest Ave\, Dallas\, TX\, 75205\, United States
ATTACH;FMTTYPE=image/jpeg:https://crispandgreen.com/wp-content/uploads/2022/02/5b5aaeefb82c53c6584e511d82af335c-BDcv2o.tmp_.jpg
GEO:32.846367;-96.7872722
X-APPLE-STRUCTURED-LOCATION;VALUE=URI;X-ADDRESS=CRISP & GREEN | University Park – Dallas TX 6565 Hillcrest Ave Dallas TX 75205 United States;X-APPLE-RADIUS=500;X-TITLE=6565 Hillcrest Ave:geo:-96.7872722,32.846367
END:VEVENT
END:VCALENDAR