BEGIN:VCALENDAR
VERSION:2.0
PRODID:-//CRISP &amp; GREEN® |  Food That Fits Your Life - ECPv6.7.0//NONSGML v1.0//EN
CALSCALE:GREGORIAN
METHOD:PUBLISH
X-ORIGINAL-URL:https://crispandgreen.com
X-WR-CALDESC:Events for CRISP &amp; GREEN® |  Food That Fits Your Life
REFRESH-INTERVAL;VALUE=DURATION:PT1H
X-Robots-Tag:noindex
X-PUBLISHED-TTL:PT1H
BEGIN:VTIMEZONE
TZID:America/Chicago
BEGIN:DAYLIGHT
TZOFFSETFROM:-0600
TZOFFSETTO:-0500
TZNAME:CDT
DTSTART:20230312T080000
END:DAYLIGHT
BEGIN:STANDARD
TZOFFSETFROM:-0500
TZOFFSETTO:-0600
TZNAME:CST
DTSTART:20231105T070000
END:STANDARD
BEGIN:DAYLIGHT
TZOFFSETFROM:-0600
TZOFFSETTO:-0500
TZNAME:CDT
DTSTART:20240310T080000
END:DAYLIGHT
BEGIN:STANDARD
TZOFFSETFROM:-0500
TZOFFSETTO:-0600
TZNAME:CST
DTSTART:20241103T070000
END:STANDARD
BEGIN:DAYLIGHT
TZOFFSETFROM:-0600
TZOFFSETTO:-0500
TZNAME:CDT
DTSTART:20250309T080000
END:DAYLIGHT
BEGIN:STANDARD
TZOFFSETFROM:-0500
TZOFFSETTO:-0600
TZNAME:CST
DTSTART:20251102T070000
END:STANDARD
END:VTIMEZONE
BEGIN:VEVENT
DTSTART;TZID=America/Chicago:20250816T091500
DTEND;TZID=America/Chicago:20250816T100000
DTSTAMP:20260422T043710
CREATED:20250506T142425Z
LAST-MODIFIED:20250625T143218Z
UID:10000873-1755335700-1755338400@crispandgreen.com
SUMMARY:StrongHER Series + CRISP & GREEN | NORTH LOOP - MINNEAPOLIS\, MN
DESCRIPTION:Feel strong\, confident\, and unstoppable!\nStrongHER: Foundations is a 30-minute\, full-body bodyweight class designed to help women build strength using the basics—squats\, push-ups\, glute bridges\, and more—no equipment required! \nPerfect for beginners or if you want to try fun movements\, this class focuses on form\, control\, and foundational strength to help you move better\, feel stronger\, and unlock your full potential. \nBeginner-friendly\nLow-impact\, high results\nBodyweight only – just bring your mat and good vibes!
URL:https://crispandgreen.com/cg-event/strongher-series-crisp-green-northloop-minneapolis-mn/
LOCATION:CRISP & GREEN NORTH LOOP\, 428 North Washington Ave\, Minneapolis\, MN\, 55401\, United States
ATTACH;FMTTYPE=image/jpeg:https://crispandgreen.com/wp-content/uploads/2025/05/Sabah-Fitness-13-scaled.jpg
END:VEVENT
BEGIN:VEVENT
DTSTART;TZID=America/Chicago:20250712T091500
DTEND;TZID=America/Chicago:20250712T100000
DTSTAMP:20260422T043710
CREATED:20250520T183823Z
LAST-MODIFIED:20250520T183823Z
UID:10000871-1752311700-1752314400@crispandgreen.com
SUMMARY:StrongHER Series + CRISP & GREEN | NORTH LOOP - MINNEAPOLIS\, MN
DESCRIPTION:Feel strong\, confident\, and unstoppable!\nStrongHER: Foundations is a 30-minute\, full-body bodyweight class designed to help women build strength using the basics—squats\, push-ups\, glute bridges\, and more—no equipment required! \nPerfect for beginners or if you want to try fun movements\, this class focuses on form\, control\, and foundational strength to help you move better\, feel stronger\, and unlock your full potential. \nBeginner-friendly\nLow-impact\, high results\nBodyweight only – just bring your mat and good vibes!
URL:https://crispandgreen.com/cg-event/strongher-series-crisp-green-north-loop-minneapolis-mn/
LOCATION:CRISP & GREEN NORTH LOOP\, 428 North Washington Ave\, Minneapolis\, MN\, 55401\, United States
ATTACH;FMTTYPE=image/jpeg:https://crispandgreen.com/wp-content/uploads/2025/05/Sabah-Fitness-9-scaled.jpg
END:VEVENT
BEGIN:VEVENT
DTSTART;TZID=America/Chicago:20250607T091500
DTEND;TZID=America/Chicago:20250607T100000
DTSTAMP:20260422T043710
CREATED:20250331T162435Z
LAST-MODIFIED:20250331T162435Z
UID:10000844-1749287700-1749290400@crispandgreen.com
SUMMARY:SHANNON ROSE YOGA + CRISP & GREEN | NORTH LOOP-MINNEAPOLIS\, MN
DESCRIPTION:Shannon Stagliano is a Sculpt instructor based in the Twin Cities. She leads mat pilates and yoga-inspired pop-up classes throughout the area\, alongside teaching weekly classes at CorePower Yoga. Her classes blend yoga\, pilates\, and resistance band exercises to help you build strength\, feel the burn\, and finish with a deep stretch to leave you feeling balanced and refreshed + CRISP & GREEN samples after class! Don’t forget to bring your mat and water bottles.
URL:https://crispandgreen.com/cg-event/shannon-rose-yoga-crisp-green-north-loop-minneapolis-mn-2/
LOCATION:CRISP & GREEN NORTH LOOP\, 428 North Washington Ave\, Minneapolis\, MN\, 55401\, United States
ATTACH;FMTTYPE=image/jpeg:https://crispandgreen.com/wp-content/uploads/2025/03/IMG_1915S.jpeg
END:VEVENT
BEGIN:VEVENT
DTSTART;TZID=America/Chicago:20250531T091500
DTEND;TZID=America/Chicago:20250531T100000
DTSTAMP:20260422T043710
CREATED:20250331T161854Z
LAST-MODIFIED:20250331T161854Z
UID:10000843-1748682900-1748685600@crispandgreen.com
SUMMARY:SHANNON ROSE YOGA + CRISP & GREEN | NORTH LOOP-MINNEAPOLIS\, MN
DESCRIPTION:Shannon Stagliano is a Sculpt instructor based in the Twin Cities. She leads mat pilates and yoga-inspired pop-up classes throughout the area\, alongside teaching weekly classes at CorePower Yoga. Her classes blend yoga\, pilates\, and resistance band exercises to help you build strength\, feel the burn\, and finish with a deep stretch to leave you feeling balanced and refreshed + CRISP & GREEN samples after class! Don’t forget to bring your mat and water bottles.
URL:https://crispandgreen.com/cg-event/shannon-rose-yoga-crisp-green-north-loop-minneapolis-mn/
LOCATION:CRISP & GREEN NORTH LOOP\, 428 North Washington Ave\, Minneapolis\, MN\, 55401\, United States
ATTACH;FMTTYPE=image/jpeg:https://crispandgreen.com/wp-content/uploads/2025/03/IMG_1915S.jpeg
END:VEVENT
BEGIN:VEVENT
DTSTART;TZID=America/Chicago:20250503T091500
DTEND;TZID=America/Chicago:20250503T100000
DTSTAMP:20260422T043710
CREATED:20250321T163646Z
LAST-MODIFIED:20250321T163646Z
UID:10000835-1746263700-1746266400@crispandgreen.com
SUMMARY:NATIONAL FITNESS DAY RUMBLE BOXING + CRISP & GREEN | NORTH LOOP - MINNEAPOLIS\, MN
DESCRIPTION:Come join us for a high-energy body weight boxing class at Crisp and Green North Loop where you will definitely feel the vibes!! Get ready to sweat\, punch\, and have a blast with Coach Alex. Whether you’re a beginner or a seasoned pro\, this class is perfect for anyone looking to have a fun workout. Bring a mat and a friend to kick off your National Fitness Day right! Plus free entrees and CRISP & GREEN swag after class for each participant.
URL:https://crispandgreen.com/cg-event/national-fitness-day-rumble-boxing-crisp-green-north-loop-minneapolis-mn/
LOCATION:CRISP & GREEN NORTH LOOP\, 428 North Washington Ave\, Minneapolis\, MN\, 55401\, United States
ATTACH;FMTTYPE=image/png:https://crispandgreen.com/wp-content/uploads/2024/03/Screen-Shot-2024-03-25-at-11.44.15-AM.png
END:VEVENT
BEGIN:VEVENT
DTSTART;TZID=America/Chicago:20250424T170000
DTEND;TZID=America/Chicago:20250424T190000
DTSTAMP:20260422T043710
CREATED:20250331T034000Z
LAST-MODIFIED:20250331T034000Z
UID:10000842-1745514000-1745521200@crispandgreen.com
SUMMARY:JUNIOR LEAGUE MINNEAPOLIS FUNDRAISER + CRISP & GREEN | NORTH LOOP - MINNEAPOLIS\, MN
DESCRIPTION:Junior League of Minneapolis will receive 20% of fundraiser sales during this fundraiser. Participate on Apr 24\, 2025 during the scheduled fundraiser time by explaining at the register that you are supporting the fundraiser or by ordering online at crispandgreen.com or on the CRISP & GREEN mobile app using this digital coupon.
URL:https://crispandgreen.com/cg-event/junior-league-minneapolis-fundraiser-crisp-green-north-loop-minneapolis-mn/
LOCATION:CRISP & GREEN NORTH LOOP\, 428 North Washington Ave\, Minneapolis\, MN\, 55401\, United States
ATTACH;FMTTYPE=image/jpeg:https://crispandgreen.com/wp-content/uploads/2024/10/wrap-pyramid-cropped.jpg
END:VEVENT
BEGIN:VEVENT
DTSTART;TZID=America/Chicago:20250322T091500
DTEND;TZID=America/Chicago:20250322T100000
DTSTAMP:20260422T043710
CREATED:20250220T155958Z
LAST-MODIFIED:20250220T155958Z
UID:10000807-1742634900-1742637600@crispandgreen.com
SUMMARY:STRENGTH + STRETCH + CRISP & GREEN | NORTH LOOP - MINNEAPOLIS\, MN
DESCRIPTION:This class blends bodyweight strength exercises and intentional stretching to build stability and overall body awareness. Expect a balanced mix of controlled movements to activate and strengthen your muscles\, followed by dynamic stretches to enhance flexibility and recovery. Perfect for all levels\, this session helps you move better\, feel stronger\, and leave refreshed. Please bring a mat!
URL:https://crispandgreen.com/cg-event/strength-stretch-crisp-green-north-loop-minneapolis-mn/
LOCATION:CRISP & GREEN NORTH LOOP\, 428 North Washington Ave\, Minneapolis\, MN\, 55401\, United States
ATTACH;FMTTYPE=image/png:https://crispandgreen.com/wp-content/uploads/2025/01/Screen-Shot-2025-01-22-at-4.18.15-PM.png
END:VEVENT
BEGIN:VEVENT
DTSTART;TZID=America/Chicago:20250315T091500
DTEND;TZID=America/Chicago:20250315T100000
DTSTAMP:20260422T043710
CREATED:20250310T133256Z
LAST-MODIFIED:20250310T133256Z
UID:10000830-1742030100-1742032800@crispandgreen.com
SUMMARY:ALTR + CRISP & GREEN | NORTH LOOP - MINNEAPOLIS\, MN
DESCRIPTION:Join our ALTR North Loop team for a Crisp & Green + ALTR collab! We’ll crush a 30-minute full body HIIT working combining strength and cardio and then crush your favorite salad. Is there a more perfect start to your Saturday?! Please bring a water bottle and mat!
URL:https://crispandgreen.com/cg-event/altr-crisp-green-north-loop-minneapolis-mn/
LOCATION:CRISP & GREEN NORTH LOOP\, 428 North Washington Ave\, Minneapolis\, MN\, 55401\, United States
ATTACH;FMTTYPE=image/png:https://crispandgreen.com/wp-content/uploads/2025/03/Screen-Shot-2025-03-10-at-8.21.41-AM.png
END:VEVENT
BEGIN:VEVENT
DTSTART;TZID=America/Chicago:20250215T091500
DTEND;TZID=America/Chicago:20250215T100000
DTSTAMP:20260422T043710
CREATED:20250122T222415Z
LAST-MODIFIED:20250122T222415Z
UID:10000798-1739610900-1739613600@crispandgreen.com
SUMMARY:SELF LOVE WORKSHOP WITH KAYLIE + CRISP & GREEN | NORTHLOOP - MINNEAPOLIS MN
DESCRIPTION:Let’s celebrate YOU this Valentine’s weekend! Join Kaylie for an uplifting session featuring light movement\, breathwork\, and goal setting with a focus on self-love and kindness. Connect with a community of people in a supportive space where we can learn and inspire each other together. Please bring a yoga mat and water bottle.
URL:https://crispandgreen.com/cg-event/self-love-workshop-with-kaylie-crisp-green-northloop-minneapolis-mn/
LOCATION:CRISP & GREEN NORTH LOOP\, 428 North Washington Ave\, Minneapolis\, MN\, 55401\, United States
ATTACH;FMTTYPE=image/png:https://crispandgreen.com/wp-content/uploads/2025/01/Screen-Shot-2025-01-22-at-4.18.15-PM.png
END:VEVENT
BEGIN:VEVENT
DTSTART;TZID=America/Chicago:20231209T093000
DTEND;TZID=America/Chicago:20231209T103000
DTSTAMP:20260422T043710
CREATED:20231120T155620Z
LAST-MODIFIED:20231120T155620Z
UID:10000578-1702114200-1702117800@crispandgreen.com
SUMMARY:Rumble North Loop + CRISP & GREEN | North Loop
DESCRIPTION:Our boxing-inspired fitness boutique combines the sweet science of boxing with the transformative power of strength training in one seamless class. Each 10-round class is an explosive\, full-body workout with HIIT\, metabolic conditioning\, and strength & cardio circuits. Reap rewards in every round® and rumble at your own pace. \n\nBOGO SALAD OR GRAIN BOWL AFTER CLASS
URL:https://crispandgreen.com/cg-event/rumble-north-loop-crisp-green-north-loop/
LOCATION:CRISP & GREEN NORTH LOOP\, 428 North Washington Ave\, Minneapolis\, MN\, 55401\, United States
ATTACH;FMTTYPE=image/png:https://crispandgreen.com/wp-content/uploads/2023/11/Screen-Shot-2023-11-20-at-9.25.40-AM.png
END:VEVENT
BEGIN:VEVENT
DTSTART;TZID=America/Chicago:20230812T093000
DTEND;TZID=America/Chicago:20230812T103000
DTSTAMP:20260422T043710
CREATED:20230630T012338Z
LAST-MODIFIED:20230630T012623Z
UID:10000507-1691832600-1691836200@crispandgreen.com
SUMMARY:Rumble Boxing + CRISP & GREEN | North Loop\, MN
DESCRIPTION:Join Crisp & Green + our new friends on the block\, Rumble\, for a workout that’ll get you energized! \nRumble Boxing North Loop is offering the hottest workout in Minneapolis that combines the sweet science of boxing with the transformative power of strength training. This class will give you a taste of our in-studio experience: \nHALF BOXING. HALF STRENGTH. 1 LEGENDARY FULL-BODY WORKOUT. \nRumble is a workout that’ll get you energized\, sweat-drenched and maxed-out with endorphins like no other. \n� 10 Rounds. 2 Fists. ZERO Experience Necessary >> \n**Please remember to bring your own mat!** \nBOGO SALAD OR GRAIN BOWL AFTER CLASS
URL:https://crispandgreen.com/cg-event/rumble-boxing-crisp-green-north-loop-mn/
LOCATION:CRISP & GREEN NORTH LOOP\, 428 North Washington Ave\, Minneapolis\, MN\, 55401\, United States
ATTACH;FMTTYPE=image/png:https://crispandgreen.com/wp-content/uploads/2023/06/Screen-Shot-2023-06-29-at-8.14.33-PM.png
END:VEVENT
BEGIN:VEVENT
DTSTART;TZID=America/Chicago:20230611T093000
DTEND;TZID=America/Chicago:20230611T103000
DTSTAMP:20260422T043710
CREATED:20230602T212335Z
LAST-MODIFIED:20230602T212335Z
UID:10000495-1686475800-1686479400@crispandgreen.com
SUMMARY:Mystic Vibes Yoga and Sound Healing + CRISP & GREEN | NORTH LOOP
DESCRIPTION:Come join Mystic Vibes Yoga and Sound Healing for 20 minutes of gentle yoga followed by 40 minutes of a relaxing and rejuvenating sound bath. Create a comfortable space and then let go\, maybe even sleep\, as you absorb the sounds and vibrations of ancient healing instruments known to influence the physical and energetic bodies on a cellular level. Find yourself feeling restored\, rejuvenated and relaxed afterwards. ” \n  \nWhat to bring: a yoga mat\, pillow\, blanket\, water\, crystals and your BFF. \n  \n*PLUS GET A BOGO SALAD OR GRAIN BOWL AFTER CLASS*
URL:https://crispandgreen.com/cg-event/mystic-vibes-yoga-and-sound-healing-crisp-green-north-loop-2/
LOCATION:CRISP & GREEN NORTH LOOP\, 428 North Washington Ave\, Minneapolis\, MN\, 55401\, United States
ATTACH;FMTTYPE=image/png:https://crispandgreen.com/wp-content/uploads/2023/05/Screen-Shot-2023-05-30-at-9.48.43-AM.png
END:VEVENT
BEGIN:VEVENT
DTSTART;TZID=America/Chicago:20230611T093000
DTEND;TZID=America/Chicago:20230611T103000
DTSTAMP:20260422T043710
CREATED:20230530T153829Z
LAST-MODIFIED:20230530T181742Z
UID:10000487-1686475800-1686479400@crispandgreen.com
SUMMARY:Mystic Vibes Yoga and Sound Healing + CRISP & GREEN | NORTH LOOP
DESCRIPTION:Come join Mystic Vibes Yoga and Sound Healing for 20 minutes of gentle yoga followed by 40 minutes of a relaxing and rejuvenating sound bath. Create a comfortable space and then let go\, maybe even sleep\, as you absorb the sounds and vibrations of ancient healing instruments known to influence the physical and energetic bodies on a cellular level. Find yourself feeling restored\, rejuvenated and relaxed afterwards. “ \nWhat to bring: a yoga mat\, pillow\, blanket\, water\, crystals and your BFF. \n*PLUS GET A BOGO SALAD OR GRAIN BOWL AFTER CLASS*
URL:https://crispandgreen.com/cg-event/mystic-vibes-yoga-and-sound-healing-crisp-green-north-loop/
LOCATION:CRISP & GREEN NORTH LOOP\, 428 North Washington Ave\, Minneapolis\, MN\, 55401\, United States
ATTACH;FMTTYPE=image/png:https://crispandgreen.com/wp-content/uploads/2023/05/Screen-Shot-2023-05-30-at-9.48.43-AM.png
END:VEVENT
BEGIN:VEVENT
DTSTART;TZID=America/Chicago:20230408T093000
DTEND;TZID=America/Chicago:20230408T103000
DTSTAMP:20260422T043710
CREATED:20230317T203819Z
LAST-MODIFIED:20230407T193418Z
UID:10000410-1680946200-1680949800@crispandgreen.com
SUMMARY:Alchemy + CRISP & GREEN| North Loop
DESCRIPTION:Join us with  Alchemy 365 to kick-off your Saturday morning with a fun HIIT class!\n\n\nWhat’s an A10? Glad you asked! This is Alchemy’s bread and butter: a combination of yoga\, strength and conditioning in the most unexpected and refreshing way. Warm-up with yoga\, 10 minutes of bodyweight high intensity\, and a yoga cool-down. Leave feeling more alive! \n**PLEASE BRING YOUR OWN MAT** \nFree complimentary frescas will be given after class to all attendees!
URL:https://crispandgreen.com/cg-event/alchemy-crisp-green-north-loop-2/
LOCATION:CRISP & GREEN NORTH LOOP\, 428 North Washington Ave\, Minneapolis\, MN\, 55401\, United States
ATTACH;FMTTYPE=image/jpeg:https://crispandgreen.com/wp-content/uploads/2023/03/2fb9f7bf62897cc5dc7639983a7cd155-bvsn83.tmp_.jpg
END:VEVENT
END:VCALENDAR