BEGIN:VCALENDAR
VERSION:2.0
PRODID:-//CRISP &amp; GREEN® |  Food That Fits Your Life - ECPv6.7.0//NONSGML v1.0//EN
CALSCALE:GREGORIAN
METHOD:PUBLISH
X-WR-CALNAME:CRISP &amp; GREEN® |  Food That Fits Your Life
X-ORIGINAL-URL:https://crispandgreen.com
X-WR-CALDESC:Events for CRISP &amp; GREEN® |  Food That Fits Your Life
REFRESH-INTERVAL;VALUE=DURATION:PT1H
X-Robots-Tag:noindex
X-PUBLISHED-TTL:PT1H
BEGIN:VTIMEZONE
TZID:America/Chicago
BEGIN:DAYLIGHT
TZOFFSETFROM:-0600
TZOFFSETTO:-0500
TZNAME:CDT
DTSTART:20230312T080000
END:DAYLIGHT
BEGIN:STANDARD
TZOFFSETFROM:-0500
TZOFFSETTO:-0600
TZNAME:CST
DTSTART:20231105T070000
END:STANDARD
END:VTIMEZONE
BEGIN:VEVENT
DTSTART;TZID=America/Chicago:20230114T093000
DTEND;TZID=America/Chicago:20230114T103000
DTSTAMP:20260422T073650
CREATED:20230104T170904Z
LAST-MODIFIED:20230113T154917Z
UID:10000345-1673688600-1673692200@crispandgreen.com
SUMMARY:Pure Barre x CRISP & GREEN | Highland Park - St. Paul\, MN
DESCRIPTION:Kick-start the New Year with us & our friends at Pure Barre as they guide you through a complimentary full-body workout!\n\n\nA﻿t Crisp & Green – we bring more than our scratch-made & chef crafted menu to the community. We also collaborate with local partners to provide FREE wellness events & opportunities as our commitment to you and being able to spread health and wellness everywhere. Grab a friend\, let’s kick-start your 2023 goals\, together! \nPure Barre is a musically driven class with a unique full-body workout focusing on low-impact\, high-intensity movements that lift and tone muscles and improve strength\, agility\, and flexibility for everybody. \n**REMEMBER TO BRING YOUR OWN MAT** \nAttendees will receive complimentary agua frescas after class!
URL:https://crispandgreen.com/cg-event/pure-barre-x-crisp-green-highland-park-st-paul-mn/
LOCATION:CRISP & GREEN Highland Park\, 2111 Ford Pkwy\, #120\, St Paul\, MN\, 55116\, United States
ATTACH;FMTTYPE=image/jpeg:https://crispandgreen.com/wp-content/uploads/2023/01/dbd6e8a912a9f594bc4a8367175b6c16-PHhEZ6.tmp_.jpg
END:VEVENT
END:VCALENDAR