BEGIN:VCALENDAR
VERSION:2.0
PRODID:-//CRISP &amp; GREEN® |  Food That Fits Your Life - ECPv6.7.0//NONSGML v1.0//EN
CALSCALE:GREGORIAN
METHOD:PUBLISH
X-WR-CALNAME:CRISP &amp; GREEN® |  Food That Fits Your Life
X-ORIGINAL-URL:https://crispandgreen.com
X-WR-CALDESC:Events for CRISP &amp; GREEN® |  Food That Fits Your Life
REFRESH-INTERVAL;VALUE=DURATION:PT1H
X-Robots-Tag:noindex
X-PUBLISHED-TTL:PT1H
BEGIN:VTIMEZONE
TZID:America/Chicago
BEGIN:DAYLIGHT
TZOFFSETFROM:-0600
TZOFFSETTO:-0500
TZNAME:CDT
DTSTART:20230312T080000
END:DAYLIGHT
BEGIN:STANDARD
TZOFFSETFROM:-0500
TZOFFSETTO:-0600
TZNAME:CST
DTSTART:20231105T070000
END:STANDARD
TZID:America/New_York
BEGIN:DAYLIGHT
TZOFFSETFROM:-0500
TZOFFSETTO:-0400
TZNAME:EDT
DTSTART:20230312T070000
END:DAYLIGHT
BEGIN:STANDARD
TZOFFSETFROM:-0400
TZOFFSETTO:-0500
TZNAME:EST
DTSTART:20231105T060000
END:STANDARD
END:VTIMEZONE
BEGIN:VEVENT
DTSTART;TZID=America/Chicago:20231014T093000
DTEND;TZID=America/Chicago:20231014T103000
DTSTAMP:20260422T060720
CREATED:20231002T204638Z
LAST-MODIFIED:20231002T204638Z
UID:10000537-1697275800-1697279400@crispandgreen.com
SUMMARY:Warrior One Yoga + CRISP & GREEN | Hamlin
DESCRIPTION:Join us for a 50min gentle morning flow taught by Warrior One Yoga. All levels welcome! Please bring your mat and willingness to have some fun!
URL:https://crispandgreen.com/cg-event/warrior-one-yoga-crisp-green-hamlin/
LOCATION:CRISP & GREEN | Hamlin\, 16055 New Independence Parkway\, #suite 130\, Winter Garden\, FL\, 34787\, United States
ATTACH;FMTTYPE=image/jpeg:https://crispandgreen.com/wp-content/uploads/2023/06/Warrior-One.jpg
END:VEVENT
BEGIN:VEVENT
DTSTART;TZID=America/Chicago:20230812T093000
DTEND;TZID=America/Chicago:20230812T103000
DTSTAMP:20260422T060720
CREATED:20230720T135055Z
LAST-MODIFIED:20230720T135055Z
UID:10000513-1691832600-1691836200@crispandgreen.com
SUMMARY:WARRIOR ONE YOGA + CRISP & GREEN | Hamlin\, FL
DESCRIPTION:Join us for a 50 min gentle morning flow. All levels welcome! Please bring your mat and willingness to have some fun! BOGO Salad or Grain bowls will be offered after class!
URL:https://crispandgreen.com/cg-event/warrior-one-yoga-crisp-green-hamlin-fl-4/
LOCATION:CRISP & GREEN | Hamlin\, 16055 New Independence Parkway\, #suite 130\, Winter Garden\, FL\, 34787\, United States
ATTACH;FMTTYPE=image/png:https://crispandgreen.com/wp-content/uploads/2023/06/Screen-Shot-2023-06-12-at-8.46.12-AM.png
END:VEVENT
BEGIN:VEVENT
DTSTART;TZID=America/Chicago:20230708T093000
DTEND;TZID=America/Chicago:20230708T101500
DTSTAMP:20260422T060720
CREATED:20230627T150558Z
LAST-MODIFIED:20230627T150558Z
UID:10000504-1688808600-1688811300@crispandgreen.com
SUMMARY:WARRIOR ONE YOGA + CRISP & GREEN | Hamlin\, FL
DESCRIPTION:Join us for a 50 min gentle morning flow taught by Julie from Warrior One Yoga. All levels welcome! Please bring your mat and willingness to have some fun! BOGO Salad or Grain bowls will be offered after class!
URL:https://crispandgreen.com/cg-event/warrior-one-yoga-crisp-green-hamlin-fl-3/
LOCATION:CRISP & GREEN | Hamlin\, 16055 New Independence Parkway\, #suite 130\, Winter Garden\, FL\, 34787\, United States
ATTACH;FMTTYPE=image/jpeg:https://crispandgreen.com/wp-content/uploads/2023/06/Warrior-One.jpg
END:VEVENT
BEGIN:VEVENT
DTSTART;TZID=America/Chicago:20230610T093000
DTEND;TZID=America/Chicago:20230610T103000
DTSTAMP:20260422T060720
CREATED:20230524T162559Z
LAST-MODIFIED:20230524T163302Z
UID:10000481-1686389400-1686393000@crispandgreen.com
SUMMARY:Warrior One Yoga + CRISP & GREEN | Hamlin\, FL
DESCRIPTION:Join us for a 50min gentle morning flow taught by Julie from Warrior One Yoga. All levels welcome!  \n*BRING YOUR OWN MAT AND WATER BOTTLE* \n**BOGO SALAD OR GRAIN BOWL AFTER CLASS FOR ALL PARTICIPANTS**
URL:https://crispandgreen.com/cg-event/warrior-one-yoga-crisp-green-hamlin-fl-2/
LOCATION:CRISP & GREEN | Hamlin\, 16055 New Independence Parkway\, #suite 130\, Winter Garden\, FL\, 34787\, United States
ATTACH;FMTTYPE=image/jpeg:https://crispandgreen.com/wp-content/uploads/2023/05/SRE7456-scaled.jpg
END:VEVENT
BEGIN:VEVENT
DTSTART;TZID=America/New_York:20230513T093000
DTEND;TZID=America/New_York:20230513T103000
DTSTAMP:20260422T060720
CREATED:20230417T133630Z
LAST-MODIFIED:20230508T154804Z
UID:10000441-1683970200-1683973800@crispandgreen.com
SUMMARY:Keylife Fitness + CRISP & GREEN | Hamlin\, FL
DESCRIPTION:Join us this May in celebrating Woman’s health with Bridget Jackson!\n\n\nA﻿t CRISP & GREEN – we bring more than our made-from scratch menu to the community.  We also host FREE Live Crisp Events as our commitment to you and your wellness driven lifestyle. Join us May 13th as we celebrate Woman’s Health month!  \nThe class will be a Booty Bootcamp and Barre Fusion Class! We’ll use every moment to have fun\, challenge your body\, and tone your muscles!   \n*﻿*PLEASE REMEMBER TO BRING YOUR OWN MAT** \n*﻿** COMPLIMENTARY BUY ONE GET ONE SALAD OR GRAIN BOWL WILL BE PROVIDED AFTER CLASS**
URL:https://crispandgreen.com/cg-event/keylife-fitness-crisp-green-hamlin-fl/
LOCATION:CRISP & GREEN | Hamlin\, 16055 New Independence Parkway\, #suite 130\, Winter Garden\, FL\, 34787\, United States
ATTACH;FMTTYPE=image/jpeg:https://crispandgreen.com/wp-content/uploads/2023/04/e0f19fe7603b76e6b5c1f9683fa08428-vy88fv.tmp_.jpg
END:VEVENT
BEGIN:VEVENT
DTSTART;TZID=America/New_York:20230408T093000
DTEND;TZID=America/New_York:20230408T103000
DTSTAMP:20260422T060720
CREATED:20230314T135846Z
LAST-MODIFIED:20230407T193417Z
UID:10000409-1680946200-1680949800@crispandgreen.com
SUMMARY:HITFIT + CRISP & GREEN | Hamlin\, FL
DESCRIPTION:Join us in celebration of Spring with a FREE outdoor fitness class hosted by HITFIT Gym!\n\n\nA﻿t CRISP & GREEN – we bring more than our made-from scratch menu to the community.  We also host FREE Live Crisp Events as our commitment to you and your wellness driven lifestyle. Join us April 8th as we celebrate the beginning of Spring!  \nGet fit fast burning up to 500 calories with our 35-minute workout. Each HIIT Zone includes a combination of weight training\, aerobic exercise\, kickboxing\, and more. Track your heart rate on our fitness boards while our personal trainers challenge and motivate you. \n*﻿*PLEASE REMEMBER TO BRING YOUR OWN MAT** \n*﻿** COMPLIMENTARY AGUAS FRESCAS WILL BE PROVIDED AFTER CLASS**
URL:https://crispandgreen.com/cg-event/hitfit-crisp-green-hamlin-fl/
LOCATION:CRISP & GREEN | Hamlin\, 16055 New Independence Parkway\, #suite 130\, Winter Garden\, FL\, 34787\, United States
ATTACH;FMTTYPE=image/jpeg:https://crispandgreen.com/wp-content/uploads/2023/03/4155045069da46981282b0528bdab802-hMbIYp.tmp_.jpg
END:VEVENT
END:VCALENDAR