BEGIN:VCALENDAR
VERSION:2.0
PRODID:-//CRISP &amp; GREEN® |  Food That Fits Your Life - ECPv6.7.0//NONSGML v1.0//EN
CALSCALE:GREGORIAN
METHOD:PUBLISH
X-WR-CALNAME:CRISP &amp; GREEN® |  Food That Fits Your Life
X-ORIGINAL-URL:https://crispandgreen.com
X-WR-CALDESC:Events for CRISP &amp; GREEN® |  Food That Fits Your Life
REFRESH-INTERVAL;VALUE=DURATION:PT1H
X-Robots-Tag:noindex
X-PUBLISHED-TTL:PT1H
BEGIN:VTIMEZONE
TZID:America/Denver
BEGIN:DAYLIGHT
TZOFFSETFROM:-0700
TZOFFSETTO:-0600
TZNAME:MDT
DTSTART:20230312T090000
END:DAYLIGHT
BEGIN:STANDARD
TZOFFSETFROM:-0600
TZOFFSETTO:-0700
TZNAME:MST
DTSTART:20231105T080000
END:STANDARD
END:VTIMEZONE
BEGIN:VEVENT
DTSTART;TZID=America/Denver:20230311T093000
DTEND;TZID=America/Denver:20230311T103000
DTSTAMP:20260421T050802
CREATED:20230306T155835Z
LAST-MODIFIED:20230311T174556Z
UID:10000399-1678527000-1678530600@crispandgreen.com
SUMMARY:Old Town Yoga + CRISP&GREEN | Old Town - Fort Collins\, CO
DESCRIPTION:Join us March 11th as we manifest our own luck. When you do positive things\, you create positive outcomes!\n\n\nAt Crisp & Green – we bring more than our scratch-made & chef crafted menu to the community. We also collaborate with local partners to provide FREE wellness events & opportunities as our commitment to you and being able to spread health and wellness everywhere. Let’s celebrate self-love & wellness\, together! \nVinyasa Yoga (often referred to as “flow”) is a style of yoga characterized by stringing classic and modern Asanas (postures) together moving from one to another\, seamlessly\, using breath. \nVinyasa typically involves Chaturanga Dandasana (Low Staff Pose)\, Urdhva Mukha Svanasana (Upward Dog Pose) and Adho Mukha Svanasana (Downward Dog Pose) to link other asanas. \nThe variable nature of Vinyasa Yoga helps to develop a more balanced body as well as prevent repetitive motion injuries that can happen if you are always doing the same thing every day. \n*﻿*PLEASE REMEMBER TO BRING YOUR OWN MAT** \n*﻿** FREE AGUAS FRESCAS FOR ATTENDEES AFTER CLASS!
URL:https://crispandgreen.com/cg-event/old-town-yoga-crispgreen-old-town-fort-collins-co/
LOCATION:CRISP & GREEN | Fort Collins Old Town\, 221 E Mountain Avec\, CO 80524\, Suite 110\, Fort Collins\, CO\, 80524\, United States
ATTACH;FMTTYPE=image/jpeg:https://crispandgreen.com/wp-content/uploads/2023/03/999d0a17c41468724b77b0aca9d814cb-tuOWp4.tmp_.jpg
END:VEVENT
END:VCALENDAR