BEGIN:VCALENDAR
VERSION:2.0
PRODID:-//CRISP &amp; GREEN® |  Food That Fits Your Life - ECPv6.7.0//NONSGML v1.0//EN
CALSCALE:GREGORIAN
METHOD:PUBLISH
X-ORIGINAL-URL:https://crispandgreen.com
X-WR-CALDESC:Events for CRISP &amp; GREEN® |  Food That Fits Your Life
REFRESH-INTERVAL;VALUE=DURATION:PT1H
X-Robots-Tag:noindex
X-PUBLISHED-TTL:PT1H
BEGIN:VTIMEZONE
TZID:America/New_York
BEGIN:DAYLIGHT
TZOFFSETFROM:-0500
TZOFFSETTO:-0400
TZNAME:EDT
DTSTART:20230312T070000
END:DAYLIGHT
BEGIN:STANDARD
TZOFFSETFROM:-0400
TZOFFSETTO:-0500
TZNAME:EST
DTSTART:20231105T060000
END:STANDARD
TZID:America/Chicago
BEGIN:DAYLIGHT
TZOFFSETFROM:-0600
TZOFFSETTO:-0500
TZNAME:CDT
DTSTART:20230312T080000
END:DAYLIGHT
BEGIN:STANDARD
TZOFFSETFROM:-0500
TZOFFSETTO:-0600
TZNAME:CST
DTSTART:20231105T070000
END:STANDARD
END:VTIMEZONE
BEGIN:VEVENT
DTSTART;TZID=America/New_York:20231014T093000
DTEND;TZID=America/New_York:20231014T103000
DTSTAMP:20260424T041727
CREATED:20231007T151903Z
LAST-MODIFIED:20231007T151903Z
UID:10000549-1697275800-1697279400@crispandgreen.com
SUMMARY:Orange Theory + CRISP & GREEN | Estero
DESCRIPTION:At Crisp & Green – we bring more than made-from scratch salads\, grain bowls and smoothies to the community. We also host FREE wellness events as our commitment to you and being able to spread health and wellness everywhere. \nExperience the Orangetheory Fitness high-intensity interval training in a unique\, out-of-studio setting. A coach will lead you through a dynamic warm-up\, body weight exercises\, and strength training moves designed to improve your power\, strength\, and endurance. To conclude\, the coach will lead everyone through a science-based cool down designed to promote muscle recovery\, flexibility\, mental clarity\, and more! \n**Please bring your own mat!** \nAttendees will receive a FREE BOGO salad or Grain Bowl when they come for the workout!
URL:https://crispandgreen.com/cg-event/orange-theory-crisp-green-estero/
LOCATION:CRISP & GREEN | Estero\, FL\, 10171 Estero Town Commons Place\, Unit 306\, Estero\, FL\, 33928\, United States
ATTACH;FMTTYPE=image/png:https://crispandgreen.com/wp-content/uploads/2023/05/Screen-Shot-2023-05-08-at-11.52.26-AM.png
END:VEVENT
BEGIN:VEVENT
DTSTART;TZID=America/Chicago:20230812T093000
DTEND;TZID=America/Chicago:20230812T103000
DTSTAMP:20260424T041727
CREATED:20230720T134851Z
LAST-MODIFIED:20230720T134851Z
UID:10000512-1691832600-1691836200@crispandgreen.com
SUMMARY:Burn Boot Camp + CRISP & GREEN | Estero\, FL
DESCRIPTION:At Crisp & Green – we bring more than made-from scratch salads\, grain bowls and smoothies to the community. We also host FREE wellness events as our commitment to you and being able to spread health and wellness everywhere.  \nBurn Boot Camp offers challenging 45-minute workouts\, focus meetings to keep you on track\, and the support of the best fitness community in the world. Join us for a full body workout! \n**Please bring your own mat!** \nAttendees will receive a BOGO salad or Grain Bowl after class!
URL:https://crispandgreen.com/cg-event/burn-boot-camp-crisp-green-estero-fl-2/
LOCATION:CRISP & GREEN | Estero\, FL\, 10171 Estero Town Commons Place\, Unit 306\, Estero\, FL\, 33928\, United States
ATTACH;FMTTYPE=image/jpeg:https://crispandgreen.com/wp-content/uploads/2023/06/555A3558.jpeg
END:VEVENT
BEGIN:VEVENT
DTSTART;TZID=America/Chicago:20230708T093000
DTEND;TZID=America/Chicago:20230708T103000
DTSTAMP:20260424T041727
CREATED:20230619T175512Z
LAST-MODIFIED:20230619T175512Z
UID:10000502-1688808600-1688812200@crispandgreen.com
SUMMARY:Orangetheory + CRISP & GREEN | Estero\, FL
DESCRIPTION:At Crisp & Green – we bring more than made-from scratch salads\, grain bowls and smoothies to the community. We also host FREE wellness events as our commitment to you and being able to spread health and wellness everywhere. Join us as we beat the March madness & prioritize our well-being! \nExperience the Orangetheory Fitness high-intensity interval training in a unique\, out-of-studio setting. A coach will lead you through a dynamic warm-up\, body weight exercises\, and strength training moves designed to improve your power\, strength\, and endurance. To conclude\, the coach will lead everyone through a science-based cool down designed to promote muscle recovery\, flexibility\, mental clarity\, and more! \n**Please bring your own mat!** \nAttendees will receive a FREE BOGO salad or Grain Bowl when they come for the workout!
URL:https://crispandgreen.com/cg-event/orangetheory-crisp-green-estero-fl-4/
LOCATION:CRISP & GREEN | Estero\, FL\, 10171 Estero Town Commons Place\, Unit 306\, Estero\, FL\, 33928\, United States
ATTACH;FMTTYPE=image/png:https://crispandgreen.com/wp-content/uploads/2023/05/Screen-Shot-2023-05-08-at-11.52.26-AM.png
END:VEVENT
BEGIN:VEVENT
DTSTART;TZID=America/Chicago:20230610T093000
DTEND;TZID=America/Chicago:20230610T103000
DTSTAMP:20260424T041727
CREATED:20230509T013825Z
LAST-MODIFIED:20230509T013931Z
UID:10000467-1686389400-1686393000@crispandgreen.com
SUMMARY:Orangetheory + CRISP & GREEN | Estero\, FL
DESCRIPTION:At Crisp & Green – we bring more than made-from scratch salads\, grain bowls and smoothies to the community. We also host FREE wellness events as our commitment to you and being able to spread health and wellness everywhere. Join us as we beat the March madness & prioritize our well-being! \nExperience the Orangetheory Fitness high-intensity interval training in a unique\, out-of-studio setting. A coach will lead you through a dynamic warm-up\, body weight exercises\, and strength training moves designed to improve your power\, strength\, and endurance. To conclude\, the coach will lead everyone through a science-based cool down designed to promote muscle recovery\, flexibility\, mental clarity\, and more! \n**Please bring your own mat!** \nAttendees will receive a FREE BOGO salad or Grain Bowl when they come for the workout!
URL:https://crispandgreen.com/cg-event/orangetheory-crisp-green-estero-fl-3/
LOCATION:CRISP & GREEN | Estero\, FL\, 10171 Estero Town Commons Place\, Unit 306\, Estero\, FL\, 33928\, United States
ATTACH;FMTTYPE=image/png:https://crispandgreen.com/wp-content/uploads/2023/05/Screen-Shot-2023-05-08-at-11.52.26-AM.png
END:VEVENT
BEGIN:VEVENT
DTSTART;TZID=America/New_York:20230513T093000
DTEND;TZID=America/New_York:20230513T103000
DTSTAMP:20260424T041727
CREATED:20230425T124714Z
LAST-MODIFIED:20230508T154810Z
UID:10000455-1683970200-1683973800@crispandgreen.com
SUMMARY:Orangetheory + CRISP & GREEN | Estero\, FL
DESCRIPTION:Join us for our full body HITT workout! We will be giving all attendees a BOGO salad or Grain Bowl after class to celebrate!\n\n\nA﻿t Crisp & Green – we bring more than made-from scratch salads\, grain bowls and smoothies to the community. We  also host FREE wellness events as our commitment to you and being able to spread health and wellness everywhere. Join us as we beat the March madness & prioritize our well-being! \nExperience the Orangetheory Fitness high-intensity interval training in a unique\, out-of-studio setting. A coach will lead you through a dynamic warm-up\, body weight exercises\, and strength training moves designed to improve your power\, strength\, and endurance. To conclude\, the coach will lead everyone through a science-based cool down designed to promote muscle recovery\, flexibility\, mental clarity\, and more! \n**Please bring your own mat!** \nAttendees will receive a FREE BOGO salad or Grain Bowl when they come for the workout!
URL:https://crispandgreen.com/cg-event/orangetheory-crisp-green-estero-fl-2/
LOCATION:CRISP & GREEN | Estero\, FL\, 10171 Estero Town Commons Place\, Unit 306\, Estero\, FL\, 33928\, United States
ATTACH;FMTTYPE=image/jpeg:https://crispandgreen.com/wp-content/uploads/2023/03/b7c7e843e93c014c9a2f3d672605b004-aKK5sM.tmp_.jpg
END:VEVENT
BEGIN:VEVENT
DTSTART;TZID=America/New_York:20230401T093000
DTEND;TZID=America/New_York:20230401T103000
DTSTAMP:20260424T041727
CREATED:20230314T135835Z
LAST-MODIFIED:20230331T142406Z
UID:10000405-1680341400-1680345000@crispandgreen.com
SUMMARY:Burn Boot Camp + CRISP & GREEN | Estero\, FL
DESCRIPTION:Join us for our GRAND OPENING DAY! We will be giving all attendees a FREE signature salad or Grain Bowl after class to celebrate!\n\n\nA﻿t Crisp & Green – we bring more than made-from scratch salads\, grain bowls and smoothies to the community. We  also host FREE wellness events as our commitment to you and being able to spread health and wellness everywhere. Join us as we beat the March madness & prioritize our well-being! \nBurn Boot Camp offers challenging 45-minute workouts\, focus meetings to keep you on track\, and the support of the best fitness community in the world.  Join us for a full body workout in celebration of our Grand Opening!  \n **Please bring your own mat!** \nAttendees will receive a FREE salad or Grain Bowl after class! There will be giveaways and more!
URL:https://crispandgreen.com/cg-event/burn-boot-camp-crisp-green-estero-fl/
LOCATION:CRISP & GREEN | Estero\, FL\, 10171 Estero Town Commons Place\, Unit 306\, Estero\, FL\, 33928\, United States
ATTACH;FMTTYPE=image/jpeg:https://crispandgreen.com/wp-content/uploads/2023/03/4cb20f8d76f82586b4f24d6f075ab1b5-nfVnCZ.tmp_.jpg
END:VEVENT
END:VCALENDAR