BEGIN:VCALENDAR
VERSION:2.0
PRODID:-//CRISP &amp; GREEN® |  Food That Fits Your Life - ECPv6.7.0//NONSGML v1.0//EN
CALSCALE:GREGORIAN
METHOD:PUBLISH
X-ORIGINAL-URL:https://crispandgreen.com
X-WR-CALDESC:Events for CRISP &amp; GREEN® |  Food That Fits Your Life
REFRESH-INTERVAL;VALUE=DURATION:PT1H
X-Robots-Tag:noindex
X-PUBLISHED-TTL:PT1H
BEGIN:VTIMEZONE
TZID:America/Chicago
BEGIN:DAYLIGHT
TZOFFSETFROM:-0600
TZOFFSETTO:-0500
TZNAME:CDT
DTSTART:20220313T080000
END:DAYLIGHT
BEGIN:STANDARD
TZOFFSETFROM:-0500
TZOFFSETTO:-0600
TZNAME:CST
DTSTART:20221106T070000
END:STANDARD
END:VTIMEZONE
BEGIN:VEVENT
DTSTART;TZID=America/Chicago:20220514T093000
DTEND;TZID=America/Chicago:20220514T103000
DTSTAMP:20260424T165539
CREATED:20220508T010330Z
LAST-MODIFIED:20220513T194808Z
UID:10000125-1652520600-1652524200@crispandgreen.com
SUMMARY:Alchemy365 + CRISP & GREEN| Edina\, MN
DESCRIPTION:Join CRISP & GREEN and Alchemy365 for a free OUTDOOR full body class at our Edina location!\n\n\nCome join Coach Ellie for Alchemy365s Cardio class  – full body\, functional conditioning that leaves you sucking wind and dripping with sweat. Science has proven that metabolic conditioning\, and HIIT provide the very best path to burning fat\, building strength\, and increasing lung capacity. And when we integrate that work with a thoughtfully sequenced yoga warm-up and restorative cool-down\, you’re left with a changed body\, restored mind\, and occasionally\, wobbly legs. This class will be a bodyweight class\, bring a yoga mat and water. \n**REMEMBER TO BRING YOUR OWN MAT ** \nAttendees will receive an agua fresca after class!
URL:https://crispandgreen.com/cg-event/alchemy365-crisp-green-edina-mn/
LOCATION:CRISP & GREEN EDINA\, 3930 West 50th Street\, Minneapolis\, MN\, 55424\, United States
ATTACH;FMTTYPE=image/jpeg:https://crispandgreen.com/wp-content/uploads/2022/05/efc8c7a7c68c5b0431d41a773a220d4e-ggTq5y.tmp_.jpg
GEO:44.9126767;-93.33058
X-APPLE-STRUCTURED-LOCATION;VALUE=URI;X-ADDRESS=CRISP & GREEN EDINA 3930 West 50th Street Minneapolis MN 55424 United States;X-APPLE-RADIUS=500;X-TITLE=3930 West 50th Street:geo:-93.33058,44.9126767
END:VEVENT
END:VCALENDAR