BEGIN:VCALENDAR
VERSION:2.0
PRODID:-//CRISP &amp; GREEN® |  Food That Fits Your Life - ECPv6.7.0//NONSGML v1.0//EN
CALSCALE:GREGORIAN
METHOD:PUBLISH
X-WR-CALNAME:CRISP &amp; GREEN® |  Food That Fits Your Life
X-ORIGINAL-URL:https://crispandgreen.com
X-WR-CALDESC:Events for CRISP &amp; GREEN® |  Food That Fits Your Life
REFRESH-INTERVAL;VALUE=DURATION:PT1H
X-Robots-Tag:noindex
X-PUBLISHED-TTL:PT1H
BEGIN:VTIMEZONE
TZID:America/Chicago
BEGIN:DAYLIGHT
TZOFFSETFROM:-0600
TZOFFSETTO:-0500
TZNAME:CDT
DTSTART:20250309T080000
END:DAYLIGHT
BEGIN:STANDARD
TZOFFSETFROM:-0500
TZOFFSETTO:-0600
TZNAME:CST
DTSTART:20251102T070000
END:STANDARD
END:VTIMEZONE
BEGIN:VEVENT
DTSTART;TZID=America/Chicago:20250503T133000
DTEND;TZID=America/Chicago:20250503T140000
DTSTAMP:20260423T160423
CREATED:20250408T213726Z
LAST-MODIFIED:20250408T213726Z
UID:10000860-1746279000-1746280800@crispandgreen.com
SUMMARY:NATIONAL FITNESS DAY FLEX & FLOW + CRISP & GREEN | ST. PAUL\, MN
DESCRIPTION:Join us as we partner with C & G for a revitalizing Pilates class that combines strength\, flexibility\, and fluid movements. embrace the energy of National Fitness Day as we come together to move\, stretch and strengthen our bodies. All levels are welcome.
URL:https://crispandgreen.com/cg-event/national-fitness-day-flex-flow-crisp-green-st-paul-mn/
LOCATION:757 Cleveland Ave S\, 757 Cleveland Ave S\, St. Paul\, MN\, 55116\, United States
ATTACH;FMTTYPE=image/jpeg:https://crispandgreen.com/wp-content/uploads/2025/04/75F5FECD-82A7-4F70-93C5-3CFBC7E6DA4A_1_105_c.jpeg
END:VEVENT
END:VCALENDAR