BEGIN:VCALENDAR
VERSION:2.0
PRODID:-//CRISP &amp; GREEN® |  Food That Fits Your Life - ECPv6.7.0//NONSGML v1.0//EN
CALSCALE:GREGORIAN
METHOD:PUBLISH
X-ORIGINAL-URL:https://crispandgreen.com
X-WR-CALDESC:Events for CRISP &amp; GREEN® |  Food That Fits Your Life
REFRESH-INTERVAL;VALUE=DURATION:PT1H
X-Robots-Tag:noindex
X-PUBLISHED-TTL:PT1H
BEGIN:VTIMEZONE
TZID:America/Chicago
BEGIN:DAYLIGHT
TZOFFSETFROM:-0600
TZOFFSETTO:-0500
TZNAME:CDT
DTSTART:20260308T080000
END:DAYLIGHT
BEGIN:STANDARD
TZOFFSETFROM:-0500
TZOFFSETTO:-0600
TZNAME:CST
DTSTART:20261101T070000
END:STANDARD
END:VTIMEZONE
BEGIN:VEVENT
DTSTART;TZID=America/Chicago:20260130T103000
DTEND;TZID=America/Chicago:20260130T210000
DTSTAMP:20260423T111702
CREATED:20260120T202633Z
LAST-MODIFIED:20260126T235853Z
UID:10000900-1769769000-1769806800@crispandgreen.com
SUMMARY:CRISP & GREEN Grand Opening | Coralville\, IA
DESCRIPTION:Join us 1/30 for the CRISP & GREEN Coralville Grand Opening! Enjoy a FREE Salad\, Wrap or Grain Bowl from 10:30 AM – 1:30 PM to celebrate wellness & feel-good food!
URL:https://crispandgreen.com/cg-event/crisp-green-grand-opening-coralville-ia/
LOCATION:MN
ATTACH;FMTTYPE=image/jpeg:https://crispandgreen.com/wp-content/uploads/2025/10/https___cdn.evbuc_.com_images_1140072663_264106791265_1_original.jpeg
END:VEVENT
END:VCALENDAR