BEGIN:VCALENDAR
VERSION:2.0
PRODID:-//CRISP &amp; GREEN® |  Food That Fits Your Life - ECPv6.7.0//NONSGML v1.0//EN
CALSCALE:GREGORIAN
METHOD:PUBLISH
X-WR-CALNAME:CRISP &amp; GREEN® |  Food That Fits Your Life
X-ORIGINAL-URL:https://crispandgreen.com
X-WR-CALDESC:Events for CRISP &amp; GREEN® |  Food That Fits Your Life
REFRESH-INTERVAL;VALUE=DURATION:PT1H
X-Robots-Tag:noindex
X-PUBLISHED-TTL:PT1H
BEGIN:VTIMEZONE
TZID:America/Chicago
BEGIN:DAYLIGHT
TZOFFSETFROM:-0600
TZOFFSETTO:-0500
TZNAME:CDT
DTSTART:20250309T080000
END:DAYLIGHT
BEGIN:STANDARD
TZOFFSETFROM:-0500
TZOFFSETTO:-0600
TZNAME:CST
DTSTART:20251102T070000
END:STANDARD
END:VTIMEZONE
BEGIN:VEVENT
DTSTART;TZID=America/Chicago:20250620T170000
DTEND;TZID=America/Chicago:20250620T190000
DTSTAMP:20260420T053443
CREATED:20250310T170654Z
LAST-MODIFIED:20250310T170654Z
UID:10000832-1750438800-1750446000@crispandgreen.com
SUMMARY:YMCA OF SOUTHWEST FLORIDA + CRISP & GREEN | VENICE\, FL
DESCRIPTION:Join us for an exciting collaboration between the YMCA and CRISP & GREEN that brings together health\, wellness\, and delicious\, nutritious food! This community event is designed to inspire and support you on your journey toward a healthier lifestyle. \nCome enjoy a flavorful meal from CRISP & GREEN and give back to the YMCA Sports Programs with your order on March 28th\, between 5-7 PM.
URL:https://crispandgreen.com/cg-event/ymca-of-southwest-florida-crisp-green-venice-fl-2/
LOCATION:CRISP & GREEN | Venice\, FL\, 1695 U.S. 41 Bypass S\, Venice\, FL\, 34293\, United States
ATTACH;FMTTYPE=image/png:https://crispandgreen.com/wp-content/uploads/2025/03/Screen-Shot-2025-03-10-at-11.52.14-AM.png
END:VEVENT
BEGIN:VEVENT
DTSTART;TZID=America/Chicago:20250621T091500
DTEND;TZID=America/Chicago:20250621T100000
DTSTAMP:20260420T053443
CREATED:20250224T192317Z
LAST-MODIFIED:20250224T192317Z
UID:10000822-1750497300-1750500000@crispandgreen.com
SUMMARY:BARRE & FLOW: STRENGTH MEETS SERENITY + CRISP & GREEN | WAYZATA\, MN
DESCRIPTION:30-Minute Barre Burn – A full-body\, low-impact workout inspired by ballet\, Pilates\, and strength training. Expect small\, controlled movements\, high repetitions\, and deep muscle engagement to tone the legs\, glutes\, core\, and arms. Light weights and resistance work will enhance the burn while maintaining fluidity and grace. \n15-Minute Slow Flow – A grounding and restorative sequence to lengthen muscles\, improve mobility\, and reconnect with breath. Gentle\, flowing movements will release tension and promote deep relaxation\, leaving you feeling refreshed and restored. \nThis class is the perfect balance of strength and softness—sculpt\, stretch\, and flow with us! \n  \nPLEASE SUPPLY YOUR OWN YOGA MAT \nFollow along for more HOLA YOGA classes at @holayogamn on IG or at \nwww.holayogamn.com
URL:https://crispandgreen.com/cg-event/barre-flow-strength-meets-serenity-crisp-green-wayzata-mn-2/
LOCATION:CRISP & GREEN  | Wayzata\, MN\, 755 Lake St E\, Wayzata\, MN\, 55391\, United States
ATTACH;FMTTYPE=image/jpeg:https://crispandgreen.com/wp-content/uploads/2025/02/IMG_2662.jpeg
END:VEVENT
END:VCALENDAR