BEGIN:VCALENDAR
VERSION:2.0
PRODID:-//CRISP &amp; GREEN® |  Food That Fits Your Life - ECPv6.7.0//NONSGML v1.0//EN
CALSCALE:GREGORIAN
METHOD:PUBLISH
X-WR-CALNAME:CRISP &amp; GREEN® |  Food That Fits Your Life
X-ORIGINAL-URL:https://crispandgreen.com
X-WR-CALDESC:Events for CRISP &amp; GREEN® |  Food That Fits Your Life
REFRESH-INTERVAL;VALUE=DURATION:PT1H
X-Robots-Tag:noindex
X-PUBLISHED-TTL:PT1H
BEGIN:VTIMEZONE
TZID:America/Chicago
BEGIN:DAYLIGHT
TZOFFSETFROM:-0600
TZOFFSETTO:-0500
TZNAME:CDT
DTSTART:20250309T080000
END:DAYLIGHT
BEGIN:STANDARD
TZOFFSETFROM:-0500
TZOFFSETTO:-0600
TZNAME:CST
DTSTART:20251102T070000
END:STANDARD
END:VTIMEZONE
BEGIN:VEVENT
DTSTART;TZID=America/Chicago:20250412T093000
DTEND;TZID=America/Chicago:20250521T103000
DTSTAMP:20260424T183106
CREATED:20250304T213536Z
LAST-MODIFIED:20250304T213536Z
UID:10000828-1744450200-1747823400@crispandgreen.com
SUMMARY:PURE BARRE + CRISP & GREEN | HAMLIN\, FL
DESCRIPTION:We’re kicking off the weekend the right way – by investing in our own wellness! Come enjoy a Pure Barre class on the Crisp and Green Hamlin patio and soak up that vitamin D! Pure Barre is a full body workout\, with small isometric movements\, high intensity\, and fun music to guide you through! New to Pure Barre? That’s ok! You have an instructor leading you through the class the entire time and a great community of support around you! Enjoy complimentary refreshments after class and giveaways like a free week to PURE BARRE! RSVP to save your spot!
URL:https://crispandgreen.com/cg-event/pure-barre-crisp-green-hamlin-fl-4/
LOCATION:CRISP & GREEN | Hamlin\, 16055 New Independence Parkway\, #suite 130\, Winter Garden\, FL\, 34787\, United States
ATTACH;FMTTYPE=image/png:https://crispandgreen.com/wp-content/uploads/2024/04/Screen-Shot-2024-04-22-at-8.43.40-AM.png
END:VEVENT
BEGIN:VEVENT
DTSTART;TZID=America/Chicago:20250424T170000
DTEND;TZID=America/Chicago:20250424T190000
DTSTAMP:20260424T183106
CREATED:20250331T034000Z
LAST-MODIFIED:20250331T034000Z
UID:10000842-1745514000-1745521200@crispandgreen.com
SUMMARY:JUNIOR LEAGUE MINNEAPOLIS FUNDRAISER + CRISP & GREEN | NORTH LOOP - MINNEAPOLIS\, MN
DESCRIPTION:Junior League of Minneapolis will receive 20% of fundraiser sales during this fundraiser. Participate on Apr 24\, 2025 during the scheduled fundraiser time by explaining at the register that you are supporting the fundraiser or by ordering online at crispandgreen.com or on the CRISP & GREEN mobile app using this digital coupon.
URL:https://crispandgreen.com/cg-event/junior-league-minneapolis-fundraiser-crisp-green-north-loop-minneapolis-mn/
LOCATION:CRISP & GREEN NORTH LOOP\, 428 North Washington Ave\, Minneapolis\, MN\, 55401\, United States
ATTACH;FMTTYPE=image/jpeg:https://crispandgreen.com/wp-content/uploads/2024/10/wrap-pyramid-cropped.jpg
END:VEVENT
BEGIN:VEVENT
DTSTART;TZID=America/Chicago:20250425T090000
DTEND;TZID=America/Chicago:20250425T110000
DTSTAMP:20260424T183106
CREATED:20250418T153949Z
LAST-MODIFIED:20250418T154042Z
UID:10000865-1745571600-1745578800@crispandgreen.com
SUMMARY:BRAND BOSSES INFLUENCER SUMMIT + CRISP & GREEN | WAYZATA\, MN
DESCRIPTION:Join us for a morning of networking\, learning\, and connecting with top MN-Based influencers\, tastemakers\, and industry leaders + Matcha and protein bites provided by CRISP & GREEN! \nWhether you’re looking to grow your online brand\, or just interested in hearing how these influencers went from 0 to thousands of followers\, this is the event for you! \nBring your questions\, and buckle up for a morning to remember. \nSchedule: \nNetworking\, Bites/Matcha from Crisp & Green + Coffee from Coffee Cart MN: 9-10 a.m. \nPanel + Q&A: 10-10:45 a.m. \nEvent Wrap Up: 11 a.m. \nPanelists: \n-Taylor Rezac | Healthier Recipes + Lifestyle ✨(@thedailytayste) \n-Jenny Luttenberger | Minnesota Radio Personality & Travel Blogger (@jennyKDWB) \n-Laura Sima // Sima Spaces | Renovations & Design (@simaspaces) \n& MORE TB-Released!
URL:https://crispandgreen.com/cg-event/brand-bosses-influencer-summit-crisp-green-wayzata-mn/
LOCATION:1601 Hennepin Avenue Minneapolis\, MN 55403\, 1601 Hennepin Avenue\, Minneapolis\, MN\, 55403\, United States
ATTACH;FMTTYPE=image/png:https://crispandgreen.com/wp-content/uploads/2025/04/Screen-Shot-2025-04-18-at-10.35.58-AM.png
END:VEVENT
BEGIN:VEVENT
DTSTART;TZID=America/Chicago:20250425T120000
DTEND;TZID=America/Chicago:20250425T131500
DTSTAMP:20260424T183106
CREATED:20250421T142617Z
LAST-MODIFIED:20250421T142617Z
UID:10000866-1745582400-1745586900@crispandgreen.com
SUMMARY:HEALTHSOURCE CHIROPRACTIC CHAIR MASSAGES + CRISP & GREEN CHANHASSEN
DESCRIPTION:Get ready to unwind and relax at the HS Chiropractic Chair Massages event! \nJoin us at CRISP & GREEN Chanhassen for a rejuvenating experience. Healthsource Chiropractic’s skilled chiropractors will work their magic on your tired muscles\, helping you release tension and feel refreshed. Whether you’re dealing with back pain or just need a moment of pure bliss\, their chair massages are the perfect solution. Don’t miss out on this opportunity to take care of yourself. Mark your calendars and come to CRISP & GREEN Chanhassen for a soothing session that will leave you feeling like a brand new person! \nAPRIL 25th 12:15 PM – 1:15PM \n$5 OFF + SALAD & GRAIN BOWLS
URL:https://crispandgreen.com/cg-event/healthsource-chiropractic-chair-massages-crisp-green-chanhassen-2/
LOCATION:CRISP & GREEN | Chanhassen\, MN\, 530 W 79th St #100\, Chanhassen\, MN\, 55317\, United States
ATTACH;FMTTYPE=image/png:https://crispandgreen.com/wp-content/uploads/2025/02/Screen-Shot-2025-02-03-at-10.10.06-AM.png
GEO:44.8597495;-93.5337355
X-APPLE-STRUCTURED-LOCATION;VALUE=URI;X-ADDRESS=CRISP & GREEN | Chanhassen MN 530 W 79th St #100 Chanhassen MN 55317 United States;X-APPLE-RADIUS=500;X-TITLE=530 W 79th St #100:geo:-93.5337355,44.8597495
END:VEVENT
BEGIN:VEVENT
DTSTART;TZID=America/Chicago:20250426T091500
DTEND;TZID=America/Chicago:20250426T100000
DTSTAMP:20260424T183106
CREATED:20250220T190254Z
LAST-MODIFIED:20250220T190254Z
UID:10000814-1745658900-1745661600@crispandgreen.com
SUMMARY:CARDIO & STRENGTH + CRISP & GREEN | NORTH LOOP - MINNEAPOLIS\, MN
DESCRIPTION:Join Kaylie for Empower360\, a dynamic workout blending cardio\, strength\, and stretching to help you move with power and confidence. As a certified Personal Trainer with a decade in the wellness industry and the founder of Strength to Empower\, Kaylie brings her expertise in group fitness and corporate wellness to create accessible and impactful workouts for all fitness levels.This class is designed to leave you feeling strong\, energized\, and empowered—whether your goal is to boost endurance\, improve mobility\, or elevate your overall fitness. Just bring a mat\, a water bottle\, and your commitment to showing up for yourself!
URL:https://crispandgreen.com/cg-event/cardio-strength-crisp-green-north-loop-minneapolis-mn/
LOCATION:CRISP & GREEN | North Loop – Minneapolis\, MN\, 428 N Washington Ave\, Minneapolis\, MN\, 55401\, United States
ATTACH;FMTTYPE=image/jpeg:https://crispandgreen.com/wp-content/uploads/2025/02/Kaylie--scaled.jpg
GEO:44.9861519;-93.2743597
X-APPLE-STRUCTURED-LOCATION;VALUE=URI;X-ADDRESS=CRISP & GREEN | North Loop – Minneapolis MN 428 N Washington Ave Minneapolis MN 55401 United States;X-APPLE-RADIUS=500;X-TITLE=428 N Washington Ave:geo:-93.2743597,44.9861519
END:VEVENT
BEGIN:VEVENT
DTSTART;TZID=America/Chicago:20250426T091500
DTEND;TZID=America/Chicago:20250426T100000
DTSTAMP:20260424T183106
CREATED:20250220T190625Z
LAST-MODIFIED:20250220T190625Z
UID:10000815-1745658900-1745661600@crispandgreen.com
SUMMARY:YOGA BODY SCULPT CLASS WITH CRUNCH FITNESS + CRISP & GREEN | MAPLE GROVE\, MN
DESCRIPTION:Yoga Body Sculpt Class \nJoin us for a rejuvenating Yoga Body Sculpt Class at CRISP & GREEN Maple Grove. This in-person event is the perfect opportunity to tone your body and calm your mind. Let our experienced instructors guide you through a blend of yoga poses and strength training exercises to help you achieve a balanced and sculpted physique. Don’t miss out on this energizing workout session! Bring a mat!
URL:https://crispandgreen.com/cg-event/yoga-body-sculpt-class-with-crunch-fitness-crisp-green-maple-grove-mn/
LOCATION:CRISP & GREEN | Maple Grove\, MN\, 11704 Elm Creek Blvd N\, Maple Grove\, MN\, 55369\, United States
ATTACH;FMTTYPE=image/heic:https://crispandgreen.com/wp-content/uploads/2025/02/YogaSculptCrunchFitness-scaled.jpg
GEO:45.0950642;-93.4291462
X-APPLE-STRUCTURED-LOCATION;VALUE=URI;X-ADDRESS=CRISP & GREEN | Maple Grove MN 11704 Elm Creek Blvd N Maple Grove MN 55369 United States;X-APPLE-RADIUS=500;X-TITLE=11704 Elm Creek Blvd N:geo:-93.4291462,45.0950642
END:VEVENT
BEGIN:VEVENT
DTSTART;TZID=America/Chicago:20250426T091500
DTEND;TZID=America/Chicago:20250426T100000
DTSTAMP:20260424T183106
CREATED:20250331T011933Z
LAST-MODIFIED:20250331T011933Z
UID:10000838-1745658900-1745661600@crispandgreen.com
SUMMARY:LOWER BODY SCULPT + CRISP & GREEN | MANKATO\, MN
DESCRIPTION:Sculpt\, tone\, and strengthen your glutes and core using resistance bands. This class is designed for all fitness levels\, so whether you’re just starting or looking to challenge yourself\, you’ll feel the burn and see the results!
URL:https://crispandgreen.com/cg-event/lower-body-sculpt-crisp-green-mankato-mn/
LOCATION:1351 Madison Avenue\, Mankato\, MN\, 56001\, 1351 Madison Avenue\, Mankato\, MN\, 56001\, United States
ATTACH;FMTTYPE=image/png:https://crispandgreen.com/wp-content/uploads/2024/11/Screen-Shot-2024-11-05-at-3.16.27-PM.png
END:VEVENT
BEGIN:VEVENT
DTSTART;TZID=America/Chicago:20250426T170000
DTEND;TZID=America/Chicago:20250426T190000
DTSTAMP:20260424T183106
CREATED:20250403T184308Z
LAST-MODIFIED:20250403T184308Z
UID:10000857-1745686800-1745694000@crispandgreen.com
SUMMARY:GAMMA PHI BETA + CRISP & GREEN | DINKYTOWN - MINNEAPOLIS\, MN
DESCRIPTION:Gamma Phi Beta sorority’s philanthropic cause is Girls On The Run. This sorority is located at the University of Minnesota. This is a dedicated group of women who are passionate about building resiliency and mental toughness in young women. Their pledge product is to create a fundraiser to help support Girls On The Run. Mention Gamma Phi at checkout. All qualified sales will be donated back to their cause.
URL:https://crispandgreen.com/cg-event/gamma-phi-beta-crisp-green-dinkytown-minneapolis-mn/
LOCATION:CRISP & GREEN | Dinkytown (UMN) – Minneapolis\, MN\, 411 14th Ave SE\, Minneapolis\, MN\, 55414\, United States
ATTACH;FMTTYPE=image/png:https://crispandgreen.com/wp-content/uploads/2025/04/Screen-Shot-2025-04-03-at-1.40.57-PM.png
GEO:44.980979;-93.2356599
X-APPLE-STRUCTURED-LOCATION;VALUE=URI;X-ADDRESS=CRISP & GREEN | Dinkytown (UMN) – Minneapolis MN 411 14th Ave SE Minneapolis MN 55414 United States;X-APPLE-RADIUS=500;X-TITLE=411 14th Ave SE:geo:-93.2356599,44.980979
END:VEVENT
BEGIN:VEVENT
DTSTART;TZID=America/Chicago:20250427T170000
DTEND;TZID=America/Chicago:20250427T190000
DTSTAMP:20260424T183106
CREATED:20250403T155815Z
LAST-MODIFIED:20250403T155913Z
UID:10000856-1745773200-1745780400@crispandgreen.com
SUMMARY:ALPHA RHO CHI FUNDRAISER + CRISP & GREEN | DINKYTOWN - MINNEAPOLIS\, MN
DESCRIPTION:Alpha Rho Chi is the design fraternity located at the University of Minnesota. This is a dedicated group of architecture and product design majors. Their pledge product is to create a fundraiser to help support their fraternity. Mention Alpha Rho at checkout. All qualified sales will be donated back to their fraternity.
URL:https://crispandgreen.com/cg-event/alpha-rho-chi-fundraiser-crisp-green-dinkytown-minneapolis-mn/
LOCATION:CRISP & GREEN | Dinkytown (UMN) – Minneapolis\, MN\, 411 14th Ave SE\, Minneapolis\, MN\, 55414\, United States
ATTACH;FMTTYPE=image/jpeg:https://crispandgreen.com/wp-content/uploads/2024/10/styled-menu.jpg
GEO:44.980979;-93.2356599
X-APPLE-STRUCTURED-LOCATION;VALUE=URI;X-ADDRESS=CRISP & GREEN | Dinkytown (UMN) – Minneapolis MN 411 14th Ave SE Minneapolis MN 55414 United States;X-APPLE-RADIUS=500;X-TITLE=411 14th Ave SE:geo:-93.2356599,44.980979
END:VEVENT
END:VCALENDAR