BEGIN:VCALENDAR
VERSION:2.0
PRODID:-//CRISP &amp; GREEN® |  Food That Fits Your Life - ECPv6.7.0//NONSGML v1.0//EN
CALSCALE:GREGORIAN
METHOD:PUBLISH
X-WR-CALNAME:CRISP &amp; GREEN® |  Food That Fits Your Life
X-ORIGINAL-URL:https://crispandgreen.com
X-WR-CALDESC:Events for CRISP &amp; GREEN® |  Food That Fits Your Life
REFRESH-INTERVAL;VALUE=DURATION:PT1H
X-Robots-Tag:noindex
X-PUBLISHED-TTL:PT1H
BEGIN:VTIMEZONE
TZID:America/Chicago
BEGIN:DAYLIGHT
TZOFFSETFROM:-0600
TZOFFSETTO:-0500
TZNAME:CDT
DTSTART:20230312T080000
END:DAYLIGHT
BEGIN:STANDARD
TZOFFSETFROM:-0500
TZOFFSETTO:-0600
TZNAME:CST
DTSTART:20231105T070000
END:STANDARD
END:VTIMEZONE
BEGIN:VEVENT
DTSTART;TZID=America/Chicago:20230107T090000
DTEND;TZID=America/Chicago:20230107T100000
DTSTAMP:20260422T040245
CREATED:20221123T194819Z
LAST-MODIFIED:20230107T014923Z
UID:10000325-1673082000-1673085600@crispandgreen.com
SUMMARY:Holly J Fitness + CRISP & GREEN | Wayzata\, MN
DESCRIPTION:Join CRISP & GREEN and Holly J Fitness for a FREE 45-minute indoor fitness class!\n\n\nHolly J will bring you through an indoor workout that will help you build strength and feel good physically\, boost self-confidence and feel good mentally\, create lasting habits\, and have fun throughout the process! \n**REMEMBER TO BRING YOUR OWN MAT** \nA﻿ttendees will recieve complimentary augas frescas after class!
URL:https://crispandgreen.com/cg-event/holly-j-fitness-crisp-green-wayzata-mn-3/
LOCATION:CRISP & GREEN | Wayzata\, MN\, 755 East Lake Street\, Wayzata\, MN\, 55391\, United States
ATTACH;FMTTYPE=image/jpeg:https://crispandgreen.com/wp-content/uploads/2022/11/5a18f38a6c83a09bca04ac1665baeb15-zKrKvi.tmp_.jpg
END:VEVENT
END:VCALENDAR