BEGIN:VCALENDAR
VERSION:2.0
PRODID:-//CRISP &amp; GREEN® |  Food That Fits Your Life - ECPv6.7.0//NONSGML v1.0//EN
CALSCALE:GREGORIAN
METHOD:PUBLISH
X-ORIGINAL-URL:https://crispandgreen.com
X-WR-CALDESC:Events for CRISP &amp; GREEN® |  Food That Fits Your Life
REFRESH-INTERVAL;VALUE=DURATION:PT1H
X-Robots-Tag:noindex
X-PUBLISHED-TTL:PT1H
BEGIN:VTIMEZONE
TZID:America/Chicago
BEGIN:DAYLIGHT
TZOFFSETFROM:-0600
TZOFFSETTO:-0500
TZNAME:CDT
DTSTART:20250309T080000
END:DAYLIGHT
BEGIN:STANDARD
TZOFFSETFROM:-0500
TZOFFSETTO:-0600
TZNAME:CST
DTSTART:20251102T070000
END:STANDARD
END:VTIMEZONE
BEGIN:VEVENT
DTSTART;TZID=America/Chicago:20251123T100000
DTEND;TZID=America/Chicago:20251123T120000
DTSTAMP:20260420T200429
CREATED:20251117T180704Z
LAST-MODIFIED:20251117T180704Z
UID:10000898-1763892000-1763899200@crispandgreen.com
SUMMARY:CRISP & GREEN x Minneapolis Run Club Collab Run
DESCRIPTION:Join us on November 23rd at 10:00 AM for a 3.45 mile run with the Minneapolis Run Club before refueling and re-energizing at CRISP & GREEN!
URL:https://crispandgreen.com/cg-event/crisp-green-x-minneapolis-run-club-collab-run/
LOCATION:MN
ATTACH;FMTTYPE=image/jpeg:https://crispandgreen.com/wp-content/uploads/2025/11/https___cdn.evbuc_.com_images_1170792223_264106791265_1_original.jpeg
END:VEVENT
END:VCALENDAR