BEGIN:VCALENDAR
VERSION:2.0
PRODID:-//CRISP &amp; GREEN® |  Food That Fits Your Life - ECPv6.7.0//NONSGML v1.0//EN
CALSCALE:GREGORIAN
METHOD:PUBLISH
X-WR-CALNAME:CRISP &amp; GREEN® |  Food That Fits Your Life
X-ORIGINAL-URL:https://crispandgreen.com
X-WR-CALDESC:Events for CRISP &amp; GREEN® |  Food That Fits Your Life
REFRESH-INTERVAL;VALUE=DURATION:PT1H
X-Robots-Tag:noindex
X-PUBLISHED-TTL:PT1H
BEGIN:VTIMEZONE
TZID:America/Chicago
BEGIN:DAYLIGHT
TZOFFSETFROM:-0600
TZOFFSETTO:-0500
TZNAME:CDT
DTSTART:20250309T080000
END:DAYLIGHT
BEGIN:STANDARD
TZOFFSETFROM:-0500
TZOFFSETTO:-0600
TZNAME:CST
DTSTART:20251102T070000
END:STANDARD
END:VTIMEZONE
BEGIN:VEVENT
DTSTART;TZID=America/Chicago:20250713T093000
DTEND;TZID=America/Chicago:20250713T113000
DTSTAMP:20260424T053541
CREATED:20250625T145155Z
LAST-MODIFIED:20250625T145155Z
UID:10000880-1752399000-1752406200@crispandgreen.com
SUMMARY:Jadyn Huber + Healthsource + CRISP & GREEN | Chanhassen\, MN
DESCRIPTION:Warrior Sculpt + Wellness Morning at Crisp & Green – Chanhassen \nSaturday\, July 13 | 9:30 AM – 11:30 AM \nJoin us for a feel-good morning of movement\, recovery\, and fresh fuel at Crisp & Green Chanhassen! \n9:30–10:30 AM – Warrior Sculpt with Jadyn Huber \nA powerful blend of yoga\, strength\, and cardio designed to challenge your body and energize your mind. All levels welcome — bring your mat and water! \n10:30–11:30 AM – Free Chair Massages with Dr. Kyra Daugherty of HealthSource Chiropractic – Chanhassen \nRelax and recover post-workout with complimentary chair massages to soothe your muscles and elevate your mood. \nAfter Class: \n\nBOGO Salads\nFree Aquas Frescas\n\nFuel your body\, recharge your mind\, and connect with the community — all before lunch! \nAll are welcome — bring a friend!
URL:https://crispandgreen.com/cg-event/jadyn-huber-healthsource-crisp-green-chanhassen-mn/
LOCATION:CRISP & GREEN | Chanhassen\, MN\, 530 W 79th St #100\, Chanhassen\, MN\, 55317\, United States
ATTACH;FMTTYPE=image/jpeg:https://crispandgreen.com/wp-content/uploads/2024/05/image0-10-e1716989604444.jpeg
GEO:44.8597495;-93.5337355
X-APPLE-STRUCTURED-LOCATION;VALUE=URI;X-ADDRESS=CRISP & GREEN | Chanhassen MN 530 W 79th St #100 Chanhassen MN 55317 United States;X-APPLE-RADIUS=500;X-TITLE=530 W 79th St #100:geo:-93.5337355,44.8597495
END:VEVENT
END:VCALENDAR