BEGIN:VCALENDAR
VERSION:2.0
PRODID:-//CRISP &amp; GREEN® |  Food That Fits Your Life - ECPv6.7.0//NONSGML v1.0//EN
CALSCALE:GREGORIAN
METHOD:PUBLISH
X-ORIGINAL-URL:https://crispandgreen.com
X-WR-CALDESC:Events for CRISP &amp; GREEN® |  Food That Fits Your Life
REFRESH-INTERVAL;VALUE=DURATION:PT1H
X-Robots-Tag:noindex
X-PUBLISHED-TTL:PT1H
BEGIN:VTIMEZONE
TZID:America/Chicago
BEGIN:DAYLIGHT
TZOFFSETFROM:-0600
TZOFFSETTO:-0500
TZNAME:CDT
DTSTART:20250309T080000
END:DAYLIGHT
BEGIN:STANDARD
TZOFFSETFROM:-0500
TZOFFSETTO:-0600
TZNAME:CST
DTSTART:20251102T070000
END:STANDARD
END:VTIMEZONE
BEGIN:VEVENT
DTSTART;TZID=America/Chicago:20250405T090000
DTEND;TZID=America/Chicago:20250405T100000
DTSTAMP:20260424T164613
CREATED:20250331T021449Z
LAST-MODIFIED:20250331T021449Z
UID:10000840-1743843600-1743847200@crispandgreen.com
SUMMARY:CLUB PILATES + CRISP & GREEN | ST. PAUL - HIGHLAND PARK\, MN
DESCRIPTION:Club Pilates + CRISP & GREEN | Highland Park – St. Paul\, MN \nCome join Club Pilates at Crisp & Green for a Saturday morning Mat Pilates class. This will be a fun\, low impact class that strengthens your core\, improvesflexibility and boosts posture-all on the mat! Expect a mix of controlled movements\, deep breathing\, and sneaky-tough exercises that leaves you feeling strong and refreshed. All you need is a mat\, your body and a little motivation! session followed by some delicious and nutritious treats from CRISP & GREEN. This in-person event is the perfect way to unwind\, get moving\, and refuel with some healthy goodies. Don’t miss out on this exciting opportunity to take care of your body and treat yourself to a day of wellness!
URL:https://crispandgreen.com/cg-event/club-pilates-crisp-green-st-paul-highland-park-mn/
LOCATION:CRISP & GREEN | Highland Park – St Paul\, MN\, 2111 Ford Pkwy\, St. Paul\, MN\, 55116\, United States
ATTACH;FMTTYPE=image/png:https://crispandgreen.com/wp-content/uploads/2025/03/Screen-Shot-2025-03-26-at-8.49.39-AM.png
GEO:44.9181597;-93.1896168
X-APPLE-STRUCTURED-LOCATION;VALUE=URI;X-ADDRESS=CRISP & GREEN | Highland Park – St Paul MN 2111 Ford Pkwy St. Paul MN 55116 United States;X-APPLE-RADIUS=500;X-TITLE=2111 Ford Pkwy:geo:-93.1896168,44.9181597
END:VEVENT
BEGIN:VEVENT
DTSTART;TZID=America/Chicago:20250405T091500
DTEND;TZID=America/Chicago:20250405T100000
DTSTAMP:20260424T164613
CREATED:20250220T160212Z
LAST-MODIFIED:20250220T160212Z
UID:10000808-1743844500-1743847200@crispandgreen.com
SUMMARY:SPRING FLING FUN RUN + CRISP & GREEN | WAYZATA\, MN
DESCRIPTION:Spring is in the air\, and it’s time to shake off winter with a Spring Fling Fun Run at Crisp & Green Wayzata! Join us for a 25-minute run\, starting with a dynamic warm-up and finishing with a relaxing stretch and cool-down. Whether you’re ready to build momentum for race season or just looking for a fun way to move\, this is the perfect way to welcome spring with good vibes\, fresh air\, and a great community! \nDate: Saturday\, April 5 \nLocation: Crisp & Green – Wayzata \nTime: 9:15 AM \nBright spring colors encouraged!
URL:https://crispandgreen.com/cg-event/spring-fling-fun-run-crisp-green-wayzata-mn/
LOCATION:CRISP & GREEN  | Wayzata\, MN\, 755 Lake St E\, Wayzata\, MN\, 55391\, United States
ATTACH;FMTTYPE=image/png:https://crispandgreen.com/wp-content/uploads/2024/02/Screen-Shot-2024-02-19-at-11.21.25-AM.png
END:VEVENT
BEGIN:VEVENT
DTSTART;TZID=America/Chicago:20250405T100000
DTEND;TZID=America/Chicago:20250405T110000
DTSTAMP:20260424T164613
CREATED:20250220T204341Z
LAST-MODIFIED:20250220T204341Z
UID:10000818-1743847200-1743850800@crispandgreen.com
SUMMARY:VYBE FITNESS OPEN HOUSE + CRISP & GREEN | WINTER PARK\, FL
DESCRIPTION:Full body workout with a glute & core finisher. Designed to grow the legs\, tone the core\, and create a lean upper body!
URL:https://crispandgreen.com/cg-event/vybe-fitness-open-house-crisp-green-winter-park-fl/
LOCATION:1201 LEWIS DRIVE\, 1201 Lewis Dr\, WINTER PARK\, FL\, 32789\, United States
ATTACH;FMTTYPE=image/png:https://crispandgreen.com/wp-content/uploads/2025/01/Screen-Shot-2025-01-14-at-12.22.32-PM.png
END:VEVENT
BEGIN:VEVENT
DTSTART;TZID=America/Chicago:20250405T103000
DTEND;TZID=America/Chicago:20250405T113000
DTSTAMP:20260424T164613
CREATED:20250331T164034Z
LAST-MODIFIED:20250331T164034Z
UID:10000846-1743849000-1743852600@crispandgreen.com
SUMMARY:ORANGE THEORY + CRISP & GREEN | NORTH LOOP - MINNEAPOLIS\, MN
DESCRIPTION:We’re popping up at Orange Theory in the North Loop! Make sure to sign up for the class taking place on April 5th at 10:30 AM to grab your CRISP & GREEN samples after class. \n 
URL:https://crispandgreen.com/cg-event/orange-theory-crisp-green-north-loop-minneapolis-mn/
LOCATION:411 WASHINGTON AVE N Minneapolis \, MN 55401\, 411 WASHINGTON AVE N\, Minneapolis\, MN\, 55401\, United States
ATTACH;FMTTYPE=image/jpeg:https://crispandgreen.com/wp-content/uploads/2021/06/orangetheory-today-180605-tease-1343962.jpg
END:VEVENT
BEGIN:VEVENT
DTSTART;TZID=America/Chicago:20250405T113000
DTEND;TZID=America/Chicago:20250405T123000
DTSTAMP:20260424T164613
CREATED:20250114T182004Z
LAST-MODIFIED:20250220T221637Z
UID:10000792-1743852600-1743856200@crispandgreen.com
SUMMARY:VYBE FITNESS GLUTE CAMP + CRISP & GREEN | WINTER PARK\, FL
DESCRIPTION:Vybe Fitness Glute Camp + CRISP & GREEN | Winter Park\, FL \nCome join us for a fun and energizing workout session at 1201 Lewis Dr! Our Glute Camp led by Vybe Fitness will get your heart pumping and your glutes burning. Afterwards\, refuel with delicious and nutritious eats from CRISP & GREEN. Don’t miss out on this fantastic opportunity to sweat\, refuel\, and connect with like-minded individuals in Winter Park\, FL!
URL:https://crispandgreen.com/cg-event/vybe-fitness-glute-camp-crisp-green-winter-park-fl-2/
LOCATION:1201 LEWIS DRIVE\, 1201 Lewis Dr\, WINTER PARK\, FL\, 32789\, United States
ATTACH;FMTTYPE=image/png:https://crispandgreen.com/wp-content/uploads/2024/05/Screen-Shot-2024-05-21-at-11.00.39-AM.png
END:VEVENT
END:VCALENDAR