BEGIN:VCALENDAR
VERSION:2.0
PRODID:-//CRISP &amp; GREEN® |  Food That Fits Your Life - ECPv6.7.0//NONSGML v1.0//EN
CALSCALE:GREGORIAN
METHOD:PUBLISH
X-WR-CALNAME:CRISP &amp; GREEN® |  Food That Fits Your Life
X-ORIGINAL-URL:https://crispandgreen.com
X-WR-CALDESC:Events for CRISP &amp; GREEN® |  Food That Fits Your Life
REFRESH-INTERVAL;VALUE=DURATION:PT1H
X-Robots-Tag:noindex
X-PUBLISHED-TTL:PT1H
BEGIN:VTIMEZONE
TZID:America/Chicago
BEGIN:DAYLIGHT
TZOFFSETFROM:-0600
TZOFFSETTO:-0500
TZNAME:CDT
DTSTART:20250309T080000
END:DAYLIGHT
BEGIN:STANDARD
TZOFFSETFROM:-0500
TZOFFSETTO:-0600
TZNAME:CST
DTSTART:20251102T070000
END:STANDARD
END:VTIMEZONE
BEGIN:VEVENT
DTSTART;TZID=America/Chicago:20250220T170000
DTEND;TZID=America/Chicago:20250220T190000
DTSTAMP:20260420T035330
CREATED:20250210T010454Z
LAST-MODIFIED:20250210T010454Z
UID:10000803-1740070800-1740078000@crispandgreen.com
SUMMARY:CHILDREN'S NETWORK DANCE MARATHON FUNDRAISER + CRISP & GREEN | HAMLIN\, FL
DESCRIPTION:Horizon High school is partnered with Children’s Miracle Network’s Dance Marathon to raise funds for children in hospitals. Stop by CRISP & GREEN – Hamlin between 5 – 7 PM on February 20th for a portion of your proceeds to be donated to the Children’s Miracle Network Dance Marathon!
URL:https://crispandgreen.com/cg-event/childrens-network-dance-marathon-fundraiser-crisp-green-hamlin-fl/
LOCATION:CRISP & GREEN | Winter Garden\, FL\, 16055 New Independence Pkwy\, suite 130\, Winter Garden\, FL\, 34787\, United States
ATTACH;FMTTYPE=image/jpeg:https://crispandgreen.com/wp-content/uploads/2024/06/20240116_KL_CrispandGreen_WrapsPromo_00294_FOCUSDStacked.jpg
END:VEVENT
END:VCALENDAR