BEGIN:VCALENDAR
VERSION:2.0
PRODID:-//CRISP &amp; GREEN® |  Food That Fits Your Life - ECPv6.7.0//NONSGML v1.0//EN
CALSCALE:GREGORIAN
METHOD:PUBLISH
X-WR-CALNAME:CRISP &amp; GREEN® |  Food That Fits Your Life
X-ORIGINAL-URL:https://crispandgreen.com
X-WR-CALDESC:Events for CRISP &amp; GREEN® |  Food That Fits Your Life
REFRESH-INTERVAL;VALUE=DURATION:PT1H
X-Robots-Tag:noindex
X-PUBLISHED-TTL:PT1H
BEGIN:VTIMEZONE
TZID:America/Chicago
BEGIN:DAYLIGHT
TZOFFSETFROM:-0600
TZOFFSETTO:-0500
TZNAME:CDT
DTSTART:20240310T080000
END:DAYLIGHT
BEGIN:STANDARD
TZOFFSETFROM:-0500
TZOFFSETTO:-0600
TZNAME:CST
DTSTART:20241103T070000
END:STANDARD
END:VTIMEZONE
BEGIN:VEVENT
DTSTART;TZID=America/Chicago:20240608T090000
DTEND;TZID=America/Chicago:20240608T094500
DTSTAMP:20260420T085418
CREATED:20240325T145424Z
LAST-MODIFIED:20240325T145454Z
UID:10000652-1717837200-1717839900@crispandgreen.com
SUMMARY:Fit For 10 + CRISP & GREEN | Mankato
DESCRIPTION:This class uses a blend of pilates\, power yoga\, and barre by using resistance bands to shape and tone for a full-body workout. Plus FREE SALAD cards after class! Please bring your own mat to this class.
URL:https://crispandgreen.com/cg-event/fit-for-10-crisp-green-mankato/
LOCATION:1351 Madison Avenue\, Mankato\, MN\, 56001\, 1351 Madison Avenue\, Mankato\, MN\, 56001\, United States
ATTACH;FMTTYPE=image/png:https://crispandgreen.com/wp-content/uploads/2024/03/Screen-Shot-2024-03-25-at-9.49.04-AM.png
END:VEVENT
BEGIN:VEVENT
DTSTART;TZID=America/Chicago:20240608T090000
DTEND;TZID=America/Chicago:20240608T100000
DTSTAMP:20260420T085418
CREATED:20240501T143953Z
LAST-MODIFIED:20240501T143953Z
UID:10000678-1717837200-1717840800@crispandgreen.com
SUMMARY:YogaSix + CRISP & GREEN | Maple Grove\, MN
DESCRIPTION:This yoga class flows at a slowed-down pace so there’s time to explore individual postures and transitions. Newer students find this class builds confidence and familiarity\, while more experienced students refine the fundamentals of alignment and dive into a deeper practice. You will gently engage\, open\, and strengthen the body by tapping into accessible yoga poses\, fluid movement\, and breath.”**BRING YOUR OWN MAT​​**
URL:https://crispandgreen.com/cg-event/yogasix-crisp-green-maple-grove-mn/
LOCATION:CRISP & GREEN | Maple Grove\, MN\, 11704 Elm Creek Blvd N\, Maple Grove\, MN\, 55369\, United States
ATTACH;FMTTYPE=image/png:https://crispandgreen.com/wp-content/uploads/2024/05/Y6-OCT-NEWPORT3540.png
GEO:45.0950642;-93.4291462
X-APPLE-STRUCTURED-LOCATION;VALUE=URI;X-ADDRESS=CRISP & GREEN | Maple Grove MN 11704 Elm Creek Blvd N Maple Grove MN 55369 United States;X-APPLE-RADIUS=500;X-TITLE=11704 Elm Creek Blvd N:geo:-93.4291462,45.0950642
END:VEVENT
BEGIN:VEVENT
DTSTART;TZID=America/Chicago:20240608T090000
DTEND;TZID=America/Chicago:20240608T100000
DTSTAMP:20260420T085418
CREATED:20240521T155342Z
LAST-MODIFIED:20240521T155342Z
UID:10000691-1717837200-1717840800@crispandgreen.com
SUMMARY:Pure Barre & Beem Light Sauna + CRISP & GREEN | Edina\, MN
DESCRIPTION:Join us for a collaboration with Pure Barre & Beem Light Sauna! Pure Barre will be hosting the workout and afterwards Beem Light Sauna will be giving out exclusive offers in preparation for their upcoming Grand Opening!\n\nPure Barre’s innovative technique improves strength\, endurance\, flexibility\, and balance. Our certified teachers will guide you through our low-impact workout inspired by yoga\, pilates\, and ballet. Each class features musically driven choreography for a fresh and effective full-body workout that benefits clients at every fitness level and protects joints from injury while you strengthen and tone your entire body.
URL:https://crispandgreen.com/cg-event/pure-barre-beem-light-sauna-crisp-green-edina-mn/
LOCATION:CRISP & GREEN Edina\, 3930 W 50th St.\, Edina\, MN\, 55424\, United States
ATTACH;FMTTYPE=image/jpeg:https://crispandgreen.com/wp-content/uploads/2024/05/LocationPage_Mobile_V2_Resized.jpg
END:VEVENT
BEGIN:VEVENT
DTSTART;TZID=America/Chicago:20240608T090000
DTEND;TZID=America/Chicago:20240608T100000
DTSTAMP:20260420T085418
CREATED:20240524T194102Z
LAST-MODIFIED:20240524T194102Z
UID:10000695-1717837200-1717840800@crispandgreen.com
SUMMARY:Vinyasa Flow + CRISP & GREEN | Highland Park\, MN
DESCRIPTION:We will practice a Vinyasa Flow yoga class that is accessible for beginners to advanced students. Join us to have fund doing yoga to strengthen\, create more flexibility\, & joy for your weekend!\n\nPlease bring your own yoga mat and water bottle!\n\nThere will be BOGO salads after class!
URL:https://crispandgreen.com/cg-event/vinyasa-flow-crisp-green-highland-park-mn-2/
LOCATION:CRISP & GREEN | Highland Park – St Paul\, MN\, 2111 Ford Pkwy\, St. Paul\, MN\, 55116\, United States
ATTACH;FMTTYPE=image/png:https://crispandgreen.com/wp-content/uploads/2024/05/Screen-Shot-2024-05-24-at-2.35.34-PM.png
GEO:44.9181597;-93.1896168
X-APPLE-STRUCTURED-LOCATION;VALUE=URI;X-ADDRESS=CRISP & GREEN | Highland Park – St Paul MN 2111 Ford Pkwy St. Paul MN 55116 United States;X-APPLE-RADIUS=500;X-TITLE=2111 Ford Pkwy:geo:-93.1896168,44.9181597
END:VEVENT
BEGIN:VEVENT
DTSTART;TZID=America/Chicago:20240608T090000
DTEND;TZID=America/Chicago:20240608T100000
DTSTAMP:20260420T085418
CREATED:20240603T142940Z
LAST-MODIFIED:20240603T142940Z
UID:10000699-1717837200-1717840800@crispandgreen.com
SUMMARY:Vinyasa Flow + CRISP & GREEN | Highland Park - St. Paul\, MN
DESCRIPTION:We will practice a Vinyasa Flow yoga class that is accessible for beginners to advanced students. Join us to have fund doing yoga to strengthen\, create more flexibility\, & joy for your weekend!Please bring your own yoga mat and water bottle!There will be BOGO salads after class!
URL:https://crispandgreen.com/cg-event/vinyasa-flow-crisp-green-highland-park-st-paul-mn/
LOCATION:CRISP & GREEN | Highland Park – St Paul\, MN\, 2111 Ford Pkwy\, St. Paul\, MN\, 55116\, United States
ATTACH;FMTTYPE=image/jpeg:https://crispandgreen.com/wp-content/uploads/2021/12/image_6483441-scaled.jpg
GEO:44.9181597;-93.1896168
X-APPLE-STRUCTURED-LOCATION;VALUE=URI;X-ADDRESS=CRISP & GREEN | Highland Park – St Paul MN 2111 Ford Pkwy St. Paul MN 55116 United States;X-APPLE-RADIUS=500;X-TITLE=2111 Ford Pkwy:geo:-93.1896168,44.9181597
END:VEVENT
BEGIN:VEVENT
DTSTART;TZID=America/Chicago:20240608T093000
DTEND;TZID=America/Chicago:20240608T101500
DTSTAMP:20260420T085418
CREATED:20240524T195016Z
LAST-MODIFIED:20240524T195016Z
UID:10000696-1717839000-1717841700@crispandgreen.com
SUMMARY:PRESSED HOT YOGA + CRISP & GREEN | BLAINE\, MN
DESCRIPTION:Pressed Barre takes the best of a classical and cardio barre class\, and infuses it with Yoga\, Pilates and core-strength training. Pressed Barre will keep you burning calories long after class is over! You will increase your strength and range of motion as we blend the best of multiple disciplines into a single class. You will feel the difference in your body the very next day. You will increase in strength and range of motion. Join us outside at Crisp & Green to kick off summer set to a Hip Hop playlist\, Pressed Barre will inspire you to take good care of yourself in every way… so what are you waiting for? All levels welcome.\n\n \nInstructor Paige\nPaige grew up being a competitive studio dancer her whole life and joined the Totino-Grace E’gals dance team in highschool. She continued dance into college through the Premier Dance Team at the University of Minnesota\, Crash Dance Company\, and is now a current dance team coach for her former Totino-Grace E’gals dance team. Through all of this experience and dance background\, she began exploring yoga starting in her early high school years. She fell in love with the similarities yoga and barre had to dance\, the sense of control\, the calm open mindset\, and the strength it gave her physically and mentally. She is still growing in her yoga and barre journey and is so excited to continue doing so at Pressed!
URL:https://crispandgreen.com/cg-event/pressed-hot-yoga-crisp-green-blaine-mn-11/
LOCATION:CRISP & GREEN | Blaine\, MN\, 10620 Baltimore St NE\, Blaine\, MN\, 55449\, United States
ATTACH;FMTTYPE=image/jpeg:https://crispandgreen.com/wp-content/uploads/2024/04/CG-Yoga-Pic-scaled.jpg
END:VEVENT
BEGIN:VEVENT
DTSTART;TZID=America/Chicago:20240608T093000
DTEND;TZID=America/Chicago:20240608T103000
DTSTAMP:20260420T085418
CREATED:20240403T213153Z
LAST-MODIFIED:20240403T213305Z
UID:10000658-1717839000-1717842600@crispandgreen.com
SUMMARY:POUND + CRISP & GREEN | Lakewood\, Denver
DESCRIPTION:At Crisp & Green – we bring more than our scratch-made & chef crafted menu to the community. We also collaborate with local partners to provide FREE wellness events & opportunities as our commitment to you and being able to spread health and wellness everywhere. Let’s celebrate self-love & wellness\, together! \nUsing Ripstix®\, lightly weighted drumsticks engineered specifically for exercising\, POUND® transforms drumming into an incredibly effective way of working out. \nInstead of listening to music\, you become the music in this exhilarating full-body workout that combines cardio\, conditioning\, and strength training with yoga and pilates-inspired movements. \nDesigned for all fitness levels\, POUND® provides the perfect atmosphere for letting loose\, getting energized\, toning you\, and rockin’ out! The workout is easily modifiable and the alternative vibe and welcoming philosophy appeal to men and women of all ages and abilities. \n**PLEASE BRING YOUR OWN MAT *
URL:https://crispandgreen.com/cg-event/pound-crisp-green-lakewood-denver/
LOCATION:CRISP & GREEN | LAKEWOOD\, CO\, 14255 W Colfax Ave\, Lakewood\, CO 80401\, Lakewood\, CO\, 80401\, United States
ATTACH;FMTTYPE=image/jpeg:https://crispandgreen.com/wp-content/uploads/2023/03/999d0a17c41468724b77b0aca9d814cb-tuOWp4.tmp_.jpg
END:VEVENT
BEGIN:VEVENT
DTSTART;TZID=America/Chicago:20240608T093000
DTEND;TZID=America/Chicago:20240608T103000
DTSTAMP:20260420T085418
CREATED:20240423T151436Z
LAST-MODIFIED:20240423T151522Z
UID:10000670-1717839000-1717842600@crispandgreen.com
SUMMARY:Sarah Weston's Jazzercise Class + CRISP & GREEN | Chanhassen\, MN
DESCRIPTION:Cardio Sculpt is a mix of cardio + strength training! There will be FREE chair massages by Healthsource Chiropractic Chanhassen with Agua Frescas & BOGO Salads after class! 
URL:https://crispandgreen.com/cg-event/sarah-westons-jazzercise-class-crisp-green-chanhassen-mn/
LOCATION:CRISP & GREEN | Chanhassen\, MN\, 530 W 79th St #100\, Chanhassen\, MN\, 55317\, United States
ATTACH;FMTTYPE=image/jpeg:https://crispandgreen.com/wp-content/uploads/2023/05/GettyImages-1343284990.jpg
GEO:44.8597495;-93.5337355
X-APPLE-STRUCTURED-LOCATION;VALUE=URI;X-ADDRESS=CRISP & GREEN | Chanhassen MN 530 W 79th St #100 Chanhassen MN 55317 United States;X-APPLE-RADIUS=500;X-TITLE=530 W 79th St #100:geo:-93.5337355,44.8597495
END:VEVENT
BEGIN:VEVENT
DTSTART;TZID=America/Chicago:20240608T093000
DTEND;TZID=America/Chicago:20240608T103000
DTSTAMP:20260420T085418
CREATED:20240506T173255Z
LAST-MODIFIED:20240506T173323Z
UID:10000680-1717839000-1717842600@crispandgreen.com
SUMMARY:Get It Done Fitness + CRISP & GREEN | Wayzata\, MN
DESCRIPTION:Get It Done Fitness is partnering with Crisp and Green to bring you one of the best fitness classes you may ever experience! \nOur gym specializes in group strength training and cardio styled- kickboxing to get you and your body on the fast track to healthy living. \nJoin us Saturday June 8th to get a little taste! We will be hosting a bodyweight only fitness class that is sure to get your sweat going but also leave you feeling better than before. All you need is a yoga mat\, some water\, and to be there! \nLet’s get it done together and enjoy a buy one get one salad or grain bowl after class!
URL:https://crispandgreen.com/cg-event/get-it-done-fitness-crisp-green-wayzata-mn-3/
LOCATION:CRISP & GREEN  | Wayzata\, MN\, 755 Lake St E\, Wayzata\, MN\, 55391\, United States
ATTACH;FMTTYPE=image/png:https://crispandgreen.com/wp-content/uploads/2024/05/Screen-Shot-2024-05-06-at-12.25.13-PM.png
END:VEVENT
BEGIN:VEVENT
DTSTART;TZID=America/Chicago:20240608T093000
DTEND;TZID=America/Chicago:20240608T103000
DTSTAMP:20260420T085418
CREATED:20240517T154309Z
LAST-MODIFIED:20240517T154309Z
UID:10000688-1717839000-1717842600@crispandgreen.com
SUMMARY:TFI Physical Therapy + CRISP & GREEN | Vernon Hills\, IL
DESCRIPTION:TFI Physical Therapy + CRISP & GREEN | Vernon Hills\, IL \nJoin us for a fantastic event at CRISP & GREEN | VERNON HILLS! TFI Physical Therapy is teaming up with CRISP & GREEN to bring you a fun and informative fitness event. Whether you’re a fitness enthusiast or just looking to learn more about physical therapy and healthy eating\, this event is for you. Come workout\, mingle\, enjoy some delicious food\, and gain valuable insights from our experts. Don’t miss out on this exciting opportunity to improve your well-being!
URL:https://crispandgreen.com/cg-event/tfi-physical-therapy-crisp-green-vernon-hills-il/
LOCATION:899 N Milwaukee Ave #300\, Vernon Hills\, IL\, 60061\, 899 N Milwaukee Ave #300\, Vernon Hills\, IL\, 60061\, United States
ATTACH;FMTTYPE=image/png:https://crispandgreen.com/wp-content/uploads/2024/05/Screen-Shot-2024-05-17-at-10.36.34-AM.png
END:VEVENT
BEGIN:VEVENT
DTSTART;TZID=America/Chicago:20240608T093000
DTEND;TZID=America/Chicago:20240608T103000
DTSTAMP:20260420T085418
CREATED:20240521T170954Z
LAST-MODIFIED:20240603T143137Z
UID:10000693-1717839000-1717842600@crispandgreen.com
SUMMARY:Betty from VXN Cardio Dance Classes + CRISP & GREEN | Houston\, TX
DESCRIPTION:Betty from VXN Cardio Dance Classes + CRISP & GREEN | Houston\, TX \nGet ready to dance your heart out with Betty from VXN Cardio Dance Classes at CRISP & GREEN in Houston! This in-person event will be held at CRISP & GREEN | HOUSTON – FOUNDRY. Join us for a fun and energetic dance workout that will leave you feeling refreshed and invigorated. Don’t miss out on this exciting opportunity to sweat it out and have a great time with Betty and the CRISP & GREEN team. See you there!
URL:https://crispandgreen.com/cg-event/betty-from-vxn-cardio-dance-classes-crisp-green-houston-tx-2/
LOCATION:CRISP & GREEN – HOUSTON\, 555 W. 19th Street\, Houston\, TX\, 77008\, United States
ATTACH;FMTTYPE=image/png:https://crispandgreen.com/wp-content/uploads/2023/10/Screen-Shot-2023-10-03-at-8.57.59-AM.png
END:VEVENT
BEGIN:VEVENT
DTSTART;TZID=America/Chicago:20240608T103000
DTEND;TZID=America/Chicago:20240608T133000
DTSTAMP:20260420T085418
CREATED:20240531T201931Z
LAST-MODIFIED:20240531T201931Z
UID:10000698-1717842600-1717853400@crispandgreen.com
SUMMARY:ChiroWay + CRISP & GREEN | Stillwater\, MN
DESCRIPTION:Join us for free Spinal Screenings and learn about ChiroWay’s difference in caring for your family’s overall wellness. All who attend will get a FREE salad with purchase of a salad and Balloons for the kids!ChiroWay’s mission is to open doors to the community that allow infants\, children\, and adults the ability to experience regular chiropractic care. What sets ChiroWay apart is accessibility; with walk-in availability\, and monthly memberships starting at $19.75 per visit\, chiropractic care is affordable and convenient for the whole family! \nChiroWay of Stillwater is locally owned and operated by Dr. Chloe Thorpe\, a lifelong resident of the St. Croix Valley. Dr. Chloe loves working with whole families and specializes in pediatric and perinatal chiropractic care. She’s an active member of\, and Webster certified through\, the International Chiropractic Pediatric Association. A former Division I collegiate athlete herself\, Dr. Chloe also has a passion for caring for athletes of all ages.
URL:https://crispandgreen.com/cg-event/chiroway-crisp-green-stillwater-mn/
LOCATION:CRISP & GREEN | Stillwater\, 13161 60th Street North\, Stillwater\, MN\, 55082\, United States
ATTACH;FMTTYPE=image/png:https://crispandgreen.com/wp-content/uploads/2024/05/Screen-Shot-2024-05-31-at-2.54.38-PM.png
END:VEVENT
END:VCALENDAR