BEGIN:VCALENDAR
VERSION:2.0
PRODID:-//CRISP &amp; GREEN® |  Food That Fits Your Life - ECPv6.7.0//NONSGML v1.0//EN
CALSCALE:GREGORIAN
METHOD:PUBLISH
X-WR-CALNAME:CRISP &amp; GREEN® |  Food That Fits Your Life
X-ORIGINAL-URL:https://crispandgreen.com
X-WR-CALDESC:Events for CRISP &amp; GREEN® |  Food That Fits Your Life
REFRESH-INTERVAL;VALUE=DURATION:PT1H
X-Robots-Tag:noindex
X-PUBLISHED-TTL:PT1H
BEGIN:VTIMEZONE
TZID:America/Chicago
BEGIN:DAYLIGHT
TZOFFSETFROM:-0600
TZOFFSETTO:-0500
TZNAME:CDT
DTSTART:20230312T080000
END:DAYLIGHT
BEGIN:STANDARD
TZOFFSETFROM:-0500
TZOFFSETTO:-0600
TZNAME:CST
DTSTART:20231105T070000
END:STANDARD
END:VTIMEZONE
BEGIN:VEVENT
DTSTART;TZID=America/Chicago:20230519T093000
DTEND;TZID=America/Chicago:20230519T103000
DTSTAMP:20260421T052257
CREATED:20230502T202847Z
LAST-MODIFIED:20230508T154815Z
UID:10000462-1684488600-1684492200@crispandgreen.com
SUMMARY:MANKATO GRAND OPENING : Fitness for 10  X CRISP & GREEN
DESCRIPTION:Come celebrate our Grand Opening in Mankato with a FREE class with FF10! FREE SALADS FOR ATTENDEES AFTER CLASS!\n\n\nAre you ready for FIT30? \nThis class uses High-Intensity Interval Training to get your body to burn more fat and calories than traditional workouts that are twice as long. You will work the lower body\, upper body\, and core in every class along with cardio. Every move is modifiable\, so this class is for everyone! \n \n**FREE FOOD for all participants**  \n*Please remember to bring your own matt and water bottle*
URL:https://crispandgreen.com/cg-event/mankato-grand-opening-fitness-for-10-x-crisp-green/
LOCATION:CRISP & GREEN | Mankato\, 1351 Madison Avenue\, Mankato\, MN\, 56001\, United States
ATTACH;FMTTYPE=image/jpeg:https://crispandgreen.com/wp-content/uploads/2023/05/27b012ff20974b67d5759932f0f6cc34-Fj1pzY.tmp_.jpg
END:VEVENT
END:VCALENDAR